BEGIN:VCALENDAR
PRODID:NingEventWidget-v1
VERSION:2.0
METHOD:PUBLISH
BEGIN:VTIMEZONE
TZID:America/Los_Angeles
X-LIC-LOCATION:America/Los_Angeles
BEGIN:DAYLIGHT
TZOFFSETFROM:-0800
TZOFFSETTO:-0700
TZNAME:PDT
DTSTART:19700308T020000
RRULE:FREQ=YEARLY;BYMONTH=3;BYDAY=2SU
END:DAYLIGHT
BEGIN:STANDARD
TZOFFSETFROM:-0700
TZOFFSETTO:-0800
TZNAME:PST
DTSTART:19701101T020000
RRULE:FREQ=YEARLY;BYMONTH=11;BYDAY=1SU
END:STANDARD
END:VTIMEZONE
BEGIN:VEVENT
UID:1464587:Event:68538
DTSTAMP:20260420T113021Z
SUMMARY:Amnesty International Young Professionals Happy Hour
DESCRIPTION:Please join us at 111 Minna Gallery in San Francisco for t
 he kick off of our Young Professionals Amnesty International Group in 
 San Francisco. The event is also co-sponsored by the World Affairs Cou
 ncil Young Professionals. DJ Chris Harnett www.chrisharnett.com and hi
 p hop artists the Psychokinetics www.psychokinetics.com will provide u
 s with an incredible show. This event is FREE so spread the word since
  everyone is welcome who is over 21 years of age. No cover but cash ba
 r.\n\nwww.facebook.com/?sk=events#!/event.php?eid=131748896875548\n\nw
 ww.facebook.com/amnestywest\n\nAt the event we will sign people up to 
 join our Young Professionals group, sign letters to free political pri
 soners, provide information about Amnesty International’s campaigns/
 issues, inform people about our Western Regional Conference Nov 5-7, 2
 010 and 50th Anniversary Conference March 18-20, 2011 both in San Fran
 cisco. You will also get to meet Amnesty International local staff, Am
 nesty volunteers and activists.\n\nGET INVOLVED: Happy hours, wine tas
 tings, lobbying, networking, panel discussions, email and facebook adv
 ocacy, two great activist conferences in San Francisco and MUCH, MUCH,
  MORE!!\n\nWhat is YPAI?\nYoung Professionals Amnesty International (Y
 PAI) engages and supports Amnesty activists from diverse backgrounds e
 ntering and currently in the working world. These dynamic young profes
 sionals group provides Amnesty and other human rights activists a spac
 e to network, organize and contribute to the struggle for human rights
  in the US and abroad.\n\nYPAI provides a unique networking opportunit
 y for emerging, existing human rights leaders and people who just want
  to learn more about human rights issues to take part in fun social ac
 tivities like Human Rights Happy Hours, Amnesty BBQ’s , Human Rights
  Dinner Parties, movie screenings, trivia night and the list goes on.\
 n\nYPAI is structured around a monthly event that combines social and 
 action oriented activities focused on addressing human rights issues. 
 YPAI is designed to provide young professionals the opportunity to exc
 hange ideas, grow professionally and proactively address the state of 
 human rights worldwide.\nYPAI is also connected to and will partner wi
 th Amnesty USA, regional staff and other Amnesty Local Groups on event
 s, concerts, lobbying and other campaign actions.\n\nFor more informat
 ion visit https://trueskool.com/events/amnesty-international-young
DTSTART;TZID=America/Los_Angeles:20101029T180000
DTEND;TZID=America/Los_Angeles:20101029T210000
CATEGORIES:san, francisco, ca
LOCATION:111 Minna Gallary, San Francisco, CA
WEBSITE:http://www.facebook.com/event.php?eid=131748896875548
URL:http://www.facebook.com/event.php?eid=131748896875548
CONTACT:
ORGANIZER;CN="William Butkus":https://trueskool.com/profile/WilliamBut
 kus
ATTACH;FMTTYPE="image/jpeg":http://storage.ning.com/topology/rest/1.0/
 file/get/2247885431?profile=original
ATTENDEE;ROLE=REQ-PARTICIPANT;PARTSTAT=ACCEPTED;RSVP=TRUE;CN="William 
 Butkus":https://trueskool.com/profile/WilliamButkus
END:VEVENT
END:VCALENDAR
