BEGIN:VCALENDAR
PRODID:NingEventWidget-v1
VERSION:2.0
METHOD:PUBLISH
BEGIN:VTIMEZONE
TZID:America/Los_Angeles
X-LIC-LOCATION:America/Los_Angeles
BEGIN:DAYLIGHT
TZOFFSETFROM:-0800
TZOFFSETTO:-0700
TZNAME:PDT
DTSTART:19700308T020000
RRULE:FREQ=YEARLY;BYMONTH=3;BYDAY=2SU
END:DAYLIGHT
BEGIN:STANDARD
TZOFFSETFROM:-0700
TZOFFSETTO:-0800
TZNAME:PST
DTSTART:19701101T020000
RRULE:FREQ=YEARLY;BYMONTH=11;BYDAY=1SU
END:STANDARD
END:VTIMEZONE
BEGIN:VEVENT
UID:1464587:Event:680267
DTSTAMP:20260421T081259Z
SUMMARY:AMINE (WIN TICKETS)
DESCRIPTION:ENTER TO WIN A PAIR OF TICKETS. WINNER WILL BE DRAWN RANDO
 MLY AND ANNOUNCED 2 DAYS PRIOR TO EVENT.\r\n\r\nAMINE\r\nwith Buddy, K
 ayo Genesis\r\nEARLY SHOW:\r\nSunday, December 16, 2018 Doors: 7:00PM 
 Show: 8:00PM\r\nLATE SHOW:\r\nSunday, December 16, 2018 Doors: 11:00PM
  Show: 11:59PM\r\nTHE REGENCY BALLROOM 1300 Van Ness Avenue San Franci
 sco, CA 94109 (415) 673-5716\r\n>> BUY TICKETS\r\n\n\nFor more informa
 tion visit https://trueskool.com/events/amine-1
DTSTART;TZID=America/Los_Angeles:20181216T200000
DTEND;TZID=America/Los_Angeles:20181216T234500
CATEGORIES:"bay area", oakland, "san francisco", "san jose", berkeley
LOCATION:THE REGENCY BALLROOM
WEBSITE:https://www.axs.com/events/363351/amine-early-show-tickets?ski
 n=goldenvoice
URL:https://www.axs.com/events/363351/amine-early-show-tickets?skin=go
 ldenvoice
CONTACT:
ORGANIZER:Goldenvoice
ATTACH;FMTTYPE="image/jpeg":http://storage.ning.com/topology/rest/1.0/
 file/get/2248011661?profile=original
ATTENDEE;ROLE=REQ-PARTICIPANT;PARTSTAT=ACCEPTED;RSVP=TRUE;CN="Editor's
  Pick":https://trueskool.com/profile/RentheVinylArchaeologist
END:VEVENT
END:VCALENDAR
