BEGIN:VCALENDAR
PRODID:NingEventWidget-v1
VERSION:2.0
METHOD:PUBLISH
BEGIN:VTIMEZONE
TZID:America/Los_Angeles
X-LIC-LOCATION:America/Los_Angeles
BEGIN:DAYLIGHT
TZOFFSETFROM:-0800
TZOFFSETTO:-0700
TZNAME:PDT
DTSTART:19700308T020000
RRULE:FREQ=YEARLY;BYMONTH=3;BYDAY=2SU
END:DAYLIGHT
BEGIN:STANDARD
TZOFFSETFROM:-0700
TZOFFSETTO:-0800
TZNAME:PST
DTSTART:19701101T020000
RRULE:FREQ=YEARLY;BYMONTH=11;BYDAY=1SU
END:STANDARD
END:VTIMEZONE
BEGIN:VEVENT
UID:1464587:Event:202855
DTSTAMP:20260421T040738Z
SUMMARY:America's Most Wanted Festival 2013 starring Lil' Wayne & T.I.
DESCRIPTION: Friday, Aug 30, 2013  America's Most Wanted Festival 2013
 \nstarring  Lil' Wayne T.I.\nSleep Train Pavilion At Concord, Concord,
  CA 07:30 PM >> BUY TICKETS\n\nFor more information visit https://true
 skool.com/events/america-s-most-wanted-festival-2013-starring-lil-wayn
 e-t-i
DTSTART;TZID=America/Los_Angeles:20130830T193000
DTEND;TZID=America/Los_Angeles:20130830T230000
CATEGORIES:"bay area", "san francisco"
LOCATION:Sleep Train Pavilion, Concord, CA
WEBSITE:http://concerts.livenation.com/event/1C004A8BF09D7EEA?
URL:http://concerts.livenation.com/event/1C004A8BF09D7EEA?
CONTACT:
ORGANIZER:Live Nation
ATTACH;FMTTYPE="image/jpeg":http://storage.ning.com/topology/rest/1.0/
 file/get/2247942186?profile=original
ATTENDEE;ROLE=REQ-PARTICIPANT;PARTSTAT=ACCEPTED;RSVP=TRUE;CN="m.deep.m
 usic":https://trueskool.com/profile/mdeepmusic
ATTENDEE;ROLE=REQ-PARTICIPANT;PARTSTAT=ACCEPTED;RSVP=TRUE;CN="Ondie A"
 :https://trueskool.com/profile/OndieA
ATTENDEE;ROLE=REQ-PARTICIPANT;PARTSTAT=ACCEPTED;RSVP=TRUE;CN="Editor's
  Pick":https://trueskool.com/profile/RentheVinylArchaeologist
END:VEVENT
END:VCALENDAR
