BEGIN:VCALENDAR
PRODID:NingEventWidget-v1
VERSION:2.0
METHOD:PUBLISH
BEGIN:VTIMEZONE
TZID:America/Los_Angeles
X-LIC-LOCATION:America/Los_Angeles
BEGIN:DAYLIGHT
TZOFFSETFROM:-0800
TZOFFSETTO:-0700
TZNAME:PDT
DTSTART:19700308T020000
RRULE:FREQ=YEARLY;BYMONTH=3;BYDAY=2SU
END:DAYLIGHT
BEGIN:STANDARD
TZOFFSETFROM:-0700
TZOFFSETTO:-0800
TZNAME:PST
DTSTART:19701101T020000
RRULE:FREQ=YEARLY;BYMONTH=11;BYDAY=1SU
END:STANDARD
END:VTIMEZONE
BEGIN:VEVENT
UID:1464587:Event:292545
DTSTAMP:20260421T111928Z
SUMMARY:AMEL LARRIEUX
DESCRIPTION:\n\nFriday, Jan 10 & Sunday, Jan 12\nAmel Larrieux\nTourin
 g new album Ice Cream Everyday(Oct 2013)\n\nFriday, January 10\n\n8pm
  $35 adv, $40 door\n10pm $30 adv, $35 door\n\nSunday, January 12\n\n7p
 m $35 adv, $40 door\n9pm $30 adv, $35 door\n\n \nNote: The Sat, Jan 1
 1 Amel Larrieux date was moved to Sun, Jan 12. For questions or ticket
  transfers contact the Box Office at 415-655-5600.\n \nLocation: Yos
 hi's, San Francisco City/State: San Francisco, CA Tickets:http://sfyo
 shis.inticketing.c…\n\nFor more information visit https://trueskool.
 com/events/amel-larrieux-4
DTSTART;TZID=America/Los_Angeles:20140110T200000
DTEND;TZID=America/Los_Angeles:20140112T230000
CATEGORIES:"bay area", "san francisco", "oakland\""
LOCATION:Yoshi's, San Francisco
WEBSITE:http://sfyoshis.inticketing.com/evlist.php?events=search&searc
 hstr=amel+larrieux&smonth=0&sday=0&syear=0&vstate=0
URL:http://sfyoshis.inticketing.com/evlist.php?events=search&searchstr
 =amel+larrieux&smonth=0&sday=0&syear=0&vstate=0
CONTACT:
ORGANIZER;CN="Editor's Pick":https://trueskool.com/profile/RentheVinyl
 Archaeologist
ATTACH;FMTTYPE="image/jpeg":http://storage.ning.com/topology/rest/1.0/
 file/get/2247955977?profile=original
ATTENDEE;ROLE=REQ-PARTICIPANT;PARTSTAT=ACCEPTED;RSVP=TRUE;CN="Claire P
 uretz":https://trueskool.com/profile/ClairePuretz
ATTENDEE;ROLE=REQ-PARTICIPANT;PARTSTAT=ACCEPTED;RSVP=TRUE;CN="Laneisha
  Whitfield":https://trueskool.com/profile/LaneishaWhitfield
ATTENDEE;ROLE=REQ-PARTICIPANT;PARTSTAT=ACCEPTED;RSVP=TRUE;CN="Camille 
 Yin":https://trueskool.com/profile/Camille
ATTENDEE;ROLE=REQ-PARTICIPANT;PARTSTAT=ACCEPTED;RSVP=TRUE;CN="Demetria
  Lawrence":https://trueskool.com/profile/DemetriaLawrence
ATTENDEE;ROLE=REQ-PARTICIPANT;PARTSTAT=ACCEPTED;RSVP=TRUE;CN=maradona1
 0:https://trueskool.com/profile/maradona10
ATTENDEE;ROLE=REQ-PARTICIPANT;PARTSTAT=ACCEPTED;RSVP=TRUE;CN=Easy:http
 s://trueskool.com/profile/DJEasy
ATTENDEE;ROLE=REQ-PARTICIPANT;PARTSTAT=ACCEPTED;RSVP=TRUE;CN=J:https:/
 /trueskool.com/profile/J321
ATTENDEE;ROLE=REQ-PARTICIPANT;PARTSTAT=ACCEPTED;RSVP=TRUE;CN=teresakwe
 li:https://trueskool.com/profile/teresakweli
ATTENDEE;ROLE=REQ-PARTICIPANT;PARTSTAT=ACCEPTED;RSVP=TRUE;CN="Nia Taha
 ni":https://trueskool.com/profile/NiaTahaniDavis
ATTENDEE;ROLE=REQ-PARTICIPANT;PARTSTAT=ACCEPTED;RSVP=TRUE;CN="Joseph K
 im":https://trueskool.com/profile/JosephKim
ATTENDEE;ROLE=REQ-PARTICIPANT;PARTSTAT=ACCEPTED;RSVP=TRUE;CN="Tina Byr
 ne":https://trueskool.com/profile/TinaByrne
ATTENDEE;ROLE=REQ-PARTICIPANT;PARTSTAT=ACCEPTED;RSVP=TRUE;CN="Katie Ba
 rthelow":https://trueskool.com/profile/KatieBarthelow
ATTENDEE;ROLE=REQ-PARTICIPANT;PARTSTAT=ACCEPTED;RSVP=TRUE;CN="Elisa Bj
 eldanes":https://trueskool.com/profile/ElisaBjeldanes
ATTENDEE;ROLE=REQ-PARTICIPANT;PARTSTAT=ACCEPTED;RSVP=TRUE;CN="Editor's
  Pick":https://trueskool.com/profile/RentheVinylArchaeologist
END:VEVENT
END:VCALENDAR
