BEGIN:VCALENDAR
PRODID:NingEventWidget-v1
VERSION:2.0
METHOD:PUBLISH
BEGIN:VTIMEZONE
TZID:America/Los_Angeles
X-LIC-LOCATION:America/Los_Angeles
BEGIN:DAYLIGHT
TZOFFSETFROM:-0800
TZOFFSETTO:-0700
TZNAME:PDT
DTSTART:19700308T020000
RRULE:FREQ=YEARLY;BYMONTH=3;BYDAY=2SU
END:DAYLIGHT
BEGIN:STANDARD
TZOFFSETFROM:-0700
TZOFFSETTO:-0800
TZNAME:PST
DTSTART:19701101T020000
RRULE:FREQ=YEARLY;BYMONTH=11;BYDAY=1SU
END:STANDARD
END:VTIMEZONE
BEGIN:VEVENT
UID:1464587:Event:678538
DTSTAMP:20260421T111922Z
SUMMARY:ALUNAGEORGE (WIN TICKETS)
DESCRIPTION:ENTER TO WIN A PAIR OF TICKETS. WINNER WILL BE DRAWN RANDO
 MLY AND ANNOUNCED 2 DAYS PRIOR TO EVENT.\r\n \r\n\r\nSaturday, Novembe
 r 24, 2018\r\nALUNAGEORGE\r\n\r\nThe Independent\r\n San Francisco, CA
 \r\n Doors: 8:30pm | Show: 9:00pm\r\nThis event is 21 and over.\r\n>> 
 BUY TICKETS\r\n\r\n\r\n\n\nFor more information visit https://trueskoo
 l.com/events/alunageorge-1
DTSTART;TZID=America/Los_Angeles:20181124T210000
DTEND;TZID=America/Los_Angeles:20181124T230000
CATEGORIES:"bay area", oakland, "san francisco", "san jose", berkeley
LOCATION:The Independent, San Francisco
WEBSITE:https://www.ticketfly.com/purchase/event/1774214?camefrom=CFC_
 ANOTHERPLANET_web&amp;amp;amp;brand=anotherplanet
URL:https://www.ticketfly.com/purchase/event/1774214?camefrom=CFC_ANOT
 HERPLANET_web&amp;amp;amp;brand=anotherplanet
CONTACT:
ORGANIZER:Another Planet Ent
ATTACH;FMTTYPE="image/jpeg":http://storage.ning.com/topology/rest/1.0/
 file/get/2248018050?profile=original
ATTENDEE;ROLE=REQ-PARTICIPANT;PARTSTAT=ACCEPTED;RSVP=TRUE;CN="Editor's
  Pick":https://trueskool.com/profile/RentheVinylArchaeologist
END:VEVENT
END:VCALENDAR
