BEGIN:VCALENDAR
PRODID:NingEventWidget-v1
VERSION:2.0
METHOD:PUBLISH
BEGIN:VTIMEZONE
TZID:America/Los_Angeles
X-LIC-LOCATION:America/Los_Angeles
BEGIN:DAYLIGHT
TZOFFSETFROM:-0800
TZOFFSETTO:-0700
TZNAME:PDT
DTSTART:19700308T020000
RRULE:FREQ=YEARLY;BYMONTH=3;BYDAY=2SU
END:DAYLIGHT
BEGIN:STANDARD
TZOFFSETFROM:-0700
TZOFFSETTO:-0800
TZNAME:PST
DTSTART:19701101T020000
RRULE:FREQ=YEARLY;BYMONTH=11;BYDAY=1SU
END:STANDARD
END:VTIMEZONE
BEGIN:VEVENT
UID:1464587:Event:69016
DTSTAMP:20260420T143821Z
SUMMARY:Aloe Blacc \"I Need a Dollar\" Tour
DESCRIPTION:Thu., November 18, 2010\nGiant Step & Le Poisson Rouge pre
 sent:\nAloe Blacc \"I Need a Dollar\" Tour\nw/ The Grand Scheme , Maya
  Jupiter , The Stepkids and $mall ¢hange\n\nLe Poisson Rouge\n158 Ble
 ecker St.\nNew York, NY 10012\nMinimum Age: 18+\nDoors Open: 7:30 PM\n
 Show Time: 7:30 PM\nBuy Tickets\n \n\nFor more information visit https
 ://trueskool.com/events/aloe-blacc-i-need-a-dollar
DTSTART;TZID=America/Los_Angeles:20101118T193000
DTEND;TZID=America/Los_Angeles:20101118T230000
CATEGORIES:new, york, ny
LOCATION:Le Poisson Rouge, New York, NY
WEBSITE:https://secure.gigmaven.com/events/3580/orders/new
URL:https://secure.gigmaven.com/events/3580/orders/new
CONTACT:
ORGANIZER:Giant Step & Le Poisson Rouge
ATTACH;FMTTYPE="image/jpeg":http://storage.ning.com/topology/rest/1.0/
 file/get/2247888585?profile=original
ATTENDEE;ROLE=REQ-PARTICIPANT;PARTSTAT=ACCEPTED;RSVP=TRUE;CN="Editor's
  Pick":https://trueskool.com/profile/RentheVinylArchaeologist
END:VEVENT
END:VCALENDAR
