BEGIN:VCALENDAR
PRODID:NingEventWidget-v1
VERSION:2.0
METHOD:PUBLISH
BEGIN:VTIMEZONE
TZID:America/Los_Angeles
X-LIC-LOCATION:America/Los_Angeles
BEGIN:DAYLIGHT
TZOFFSETFROM:-0800
TZOFFSETTO:-0700
TZNAME:PDT
DTSTART:19700308T020000
RRULE:FREQ=YEARLY;BYMONTH=3;BYDAY=2SU
END:DAYLIGHT
BEGIN:STANDARD
TZOFFSETFROM:-0700
TZOFFSETTO:-0800
TZNAME:PST
DTSTART:19701101T020000
RRULE:FREQ=YEARLY;BYMONTH=11;BYDAY=1SU
END:STANDARD
END:VTIMEZONE
BEGIN:VEVENT
UID:1464587:Event:41229
DTSTAMP:20260422T225813Z
SUMMARY:Allure @ Eve Lounge SF NEW FIRST FRIDAYS
DESCRIPTION:DJ Zita & Eve present\nALLURE\nNew 1st Fridays @ Eve Loung
 e SF\nlaunching this Fri Oct 2, 2009\n\nAlluring Soul, Funk, Hip Hop, 
 Reggae, Dancehall, 80s, and House Sounds\n\nFeaturing Resident\nDJ ZIT
 A (Golden Soundscapes)\nplus special guests\n\nThis month's special gu
 est:\nDMADNESS (Golden Soundscapes)\n\nJazz age meets the 21st century
 . Alluring and elegant. Unpretentious and approachable. These are the 
 words that describe EVE. A brand new lounge south of market San Franci
 sco. Bringing together music from San Francisco’s finest DJs and a p
 iquant cocktail list to delight the senses. Plenty of plush banquette 
 seating surrounds EVE’s curves. Roaring Twenties inspired artwork by
  local artists adorn the walls. Peep show movies play on the partition
  window that separates the lounge from the dance floor. Eve is an exce
 llent happy hour spot to relax with friends during the day and dynamic
  place to party during the nights and weekends.\n\n@ Eve Lounge SF\n57
 5 Howard St. @ 2nd St.\n10pm-2am, 21+, $10\n$5 All Night w/RSVP guestl
 ist@djzita.com\n\nhttp://djzita.com\nhttp://eveloungesf.com\n\n\n\n\nF
 or more information visit https://trueskool.com/events/allure-eve-loun
 ge-sf-new
DTSTART;TZID=America/Los_Angeles:20091002T220000
DTEND;TZID=America/Los_Angeles:20091003T020000
CATEGORIES:alluring, soul, funk, hip, hop, reggae, dancehall, 80s, and
 , house, sounds
LOCATION:Eve Lounge, San Francisco, CA
WEBSITE:http://eveloungesf.com
URL:http://eveloungesf.com
CONTACT:
ORGANIZER;CN="Fiyah Lilly":https://trueskool.com/profile/FiyahLilly
ATTACH;FMTTYPE="image/jpeg":http://storage.ning.com/topology/rest/1.0/
 file/get/2247867044?profile=original
ATTENDEE;ROLE=REQ-PARTICIPANT;PARTSTAT=ACCEPTED;RSVP=TRUE;CN="Fiyah Li
 lly":https://trueskool.com/profile/FiyahLilly
END:VEVENT
END:VCALENDAR
