BEGIN:VCALENDAR
PRODID:NingEventWidget-v1
VERSION:2.0
METHOD:PUBLISH
BEGIN:VTIMEZONE
TZID:America/Los_Angeles
X-LIC-LOCATION:America/Los_Angeles
BEGIN:DAYLIGHT
TZOFFSETFROM:-0800
TZOFFSETTO:-0700
TZNAME:PDT
DTSTART:19700308T020000
RRULE:FREQ=YEARLY;BYMONTH=3;BYDAY=2SU
END:DAYLIGHT
BEGIN:STANDARD
TZOFFSETFROM:-0700
TZOFFSETTO:-0800
TZNAME:PST
DTSTART:19701101T020000
RRULE:FREQ=YEARLY;BYMONTH=11;BYDAY=1SU
END:STANDARD
END:VTIMEZONE
BEGIN:VEVENT
UID:1464587:Event:508068
DTSTAMP:20260421T021211Z
SUMMARY:Allattractive presents STYLES UPON STYLES: Where Fashion and D
 ance converge.
DESCRIPTION:\nFRIDAY, JAN 16\nTrueskool x Allattractive x True Not
 e Media presents:***STYLES UPON STYLES***Where Fashion and Dance conv
 erge.A Celebration of Music, Fashion, and Culture.Sound Innovations by
 :Djflow (Illest/True Note)DJ Ren The Vinyl Archaeologist True Skoo
 lDJ Quantum (Headhunters Crew)DJ Proof (Massive Selector)Rocking Nu Br
 eaks, Soul, Party Jams, House, Future Funk____________________________
 _____Featuring the Freshest Dance Crews and Companies in California F
 eaturing the Hottest Street Wear Brands and Couture Fashion Designers,
  as well as Models, Stylists and Photographers.Only the most Stylish w
 ill be Interviewed an Featured on the Upcoming STYLES UPON STYLES web 
 series!Bring your best Styles... Dance... Fashion... Vibes... ALL nigh
 t.Berkeley Underground, 2284 Shattuck Ave., Berkeley21+, 10pm-2am$10, 
 FREE B4 11 w/ RSVP at http://stylesuponstyles.eventbrite.com/\n\nFor 
 more information visit https://trueskool.com/events/allattractive-pres
 ents-styles-upon-styles-where-fashion-and-dance
DTSTART;TZID=America/Los_Angeles:20150116T220000
DTEND;TZID=America/Los_Angeles:20150117T190000
CATEGORIES:"bay area", berkeley
LOCATION:Berkeley Underground, Berkeley, CA
WEBSITE:https://stylesuponstyles.eventbrite.com
URL:https://stylesuponstyles.eventbrite.com
CONTACT:
ORGANIZER:Berkeley Underground
ATTACH;FMTTYPE="image/jpeg":http://storage.ning.com/topology/rest/1.0/
 file/get/2247971809?profile=original
ATTENDEE;ROLE=REQ-PARTICIPANT;PARTSTAT=ACCEPTED;RSVP=TRUE;CN="Editor's
  Pick":https://trueskool.com/profile/RentheVinylArchaeologist
END:VEVENT
END:VCALENDAR
