BEGIN:VCALENDAR
PRODID:NingEventWidget-v1
VERSION:2.0
METHOD:PUBLISH
BEGIN:VTIMEZONE
TZID:America/Los_Angeles
X-LIC-LOCATION:America/Los_Angeles
BEGIN:DAYLIGHT
TZOFFSETFROM:-0800
TZOFFSETTO:-0700
TZNAME:PDT
DTSTART:19700308T020000
RRULE:FREQ=YEARLY;BYMONTH=3;BYDAY=2SU
END:DAYLIGHT
BEGIN:STANDARD
TZOFFSETFROM:-0700
TZOFFSETTO:-0800
TZNAME:PST
DTSTART:19701101T020000
RRULE:FREQ=YEARLY;BYMONTH=11;BYDAY=1SU
END:STANDARD
END:VTIMEZONE
BEGIN:VEVENT
UID:1464587:Event:810689
DTSTAMP:20260421T220536Z
SUMMARY:ALICIA
DESCRIPTION:ALICIA The World Tour\r\nFri • Sep 02 • 8:00 PM\r\nSat
  • Sep 03 • 8:00 PM\r\nThe Masonic 1111 California St, San Francis
 co, CA 94108\r\n\n\nFor more information visit https://trueskool.com/e
 vents/alicia
DTSTART;TZID=America/Los_Angeles:20220902T200000
DTEND;TZID=America/Los_Angeles:20220903T233000
CATEGORIES:"bay area", oakland, "san francisco", "san jose", berkeley
LOCATION:The Masonic, SF
WEBSITE:https://concerts.livenation.com/alicia-the-world-tour-san-fran
 cisco-california-09-02-2022/event/1C00583034E98BA3?_ics=1659281091489&
 amp;clickid=undefined&amp;_ga=2.186557166.616226776.1659220015-6871500
 90.1655325604
URL:https://concerts.livenation.com/alicia-the-world-tour-san-francisc
 o-california-09-02-2022/event/1C00583034E98BA3?_ics=1659281091489&amp;
 clickid=undefined&amp;_ga=2.186557166.616226776.1659220015-687150090.1
 655325604
CONTACT:
ORGANIZER;CN="Editor's Pick":https://trueskool.com/profile/RentheVinyl
 Archaeologist
ATTACH;FMTTYPE="image/jpeg":https://storage.ning.com/topology/rest/1.0
 /file/get/10737021654?profile=original
ATTENDEE;ROLE=REQ-PARTICIPANT;PARTSTAT=ACCEPTED;RSVP=TRUE;CN="Editor's
  Pick":https://trueskool.com/profile/RentheVinylArchaeologist
END:VEVENT
END:VCALENDAR
