BEGIN:VCALENDAR
PRODID:NingEventWidget-v1
VERSION:2.0
METHOD:PUBLISH
BEGIN:VTIMEZONE
TZID:America/Los_Angeles
X-LIC-LOCATION:America/Los_Angeles
BEGIN:DAYLIGHT
TZOFFSETFROM:-0800
TZOFFSETTO:-0700
TZNAME:PDT
DTSTART:19700308T020000
RRULE:FREQ=YEARLY;BYMONTH=3;BYDAY=2SU
END:DAYLIGHT
BEGIN:STANDARD
TZOFFSETFROM:-0700
TZOFFSETTO:-0800
TZNAME:PST
DTSTART:19701101T020000
RRULE:FREQ=YEARLY;BYMONTH=11;BYDAY=1SU
END:STANDARD
END:VTIMEZONE
BEGIN:VEVENT
UID:1464587:Event:53138
DTSTAMP:20260421T005651Z
SUMMARY:Alicia Keys, Robin Thicke, Melanie Fiona
DESCRIPTION:Saturday April 10th\nAlicia Keys\nRobin Thicke\nMelanie Fi
 ona\n\nOracle Arena, 7000 Coliseum Way, Oakland\ndoors at 8pm\ntickets
  $37.50 - $119.00\nBuy Tickets:\nhttp://www.ticketmaster.com/event/1C0
 04441A7096A4C\n\n \n\n\n\nFor more information visit https://trueskool
 .com/events/alicia-keys-robin-thicke
DTSTART;TZID=America/Los_Angeles:20100410T200000
DTEND;TZID=America/Los_Angeles:20100411T000000
CATEGORIES:"r&b", soul
LOCATION:Oracle Arena, Oakland, CA
WEBSITE:http://www.ticketmaster.com/event/1C004441A7096A4C
URL:http://www.ticketmaster.com/event/1C004441A7096A4C
CONTACT:
ORGANIZER;CN="Editor's Pick":https://trueskool.com/profile/RentheVinyl
 Archaeologist
ATTACH;FMTTYPE="image/jpeg":http://storage.ning.com/topology/rest/1.0/
 file/get/2247876780?profile=original
ATTENDEE;ROLE=REQ-PARTICIPANT;PARTSTAT=ACCEPTED;RSVP=TRUE;CN="Editor's
  Pick":https://trueskool.com/profile/RentheVinylArchaeologist
END:VEVENT
END:VCALENDAR
