BEGIN:VCALENDAR
PRODID:NingEventWidget-v1
VERSION:2.0
METHOD:PUBLISH
BEGIN:VTIMEZONE
TZID:America/Los_Angeles
X-LIC-LOCATION:America/Los_Angeles
BEGIN:DAYLIGHT
TZOFFSETFROM:-0800
TZOFFSETTO:-0700
TZNAME:PDT
DTSTART:19700308T020000
RRULE:FREQ=YEARLY;BYMONTH=3;BYDAY=2SU
END:DAYLIGHT
BEGIN:STANDARD
TZOFFSETFROM:-0700
TZOFFSETTO:-0800
TZNAME:PST
DTSTART:19701101T020000
RRULE:FREQ=YEARLY;BYMONTH=11;BYDAY=1SU
END:STANDARD
END:VTIMEZONE
BEGIN:VEVENT
UID:1464587:Event:63469
DTSTAMP:20260420T230257Z
SUMMARY:Alice Russell
DESCRIPTION:Aug 13-Aug 14, 2010\nAlice Russell\n\nFriday\n10:30PM Show
 : $22\n\nSaturday\n10:30PM Show: $22\n\nYoshi's San Francisco\n1330 Fi
 llmore Street\nSan Francisco, CA 94115\nPhone: 415.655.5600\n» BUY TI
 CKETS\n\n\nFor more information visit https://trueskool.com/events/ali
 ce-russell
DTSTART;TZID=America/Los_Angeles:20100813T223000
DTEND;TZID=America/Los_Angeles:20100814T013000
CATEGORIES:bay, area, san, francisco, ca
LOCATION:Yoshi's, San Francisco, CA
WEBSITE:http://sfyoshis2.inticketing.com/evlist.php?events=search&sear
 chstr=alice+russell
URL:http://sfyoshis2.inticketing.com/evlist.php?events=search&searchst
 r=alice+russell
CONTACT:
ORGANIZER:Yoshi's
ATTACH;FMTTYPE="image/jpeg":http://storage.ning.com/topology/rest/1.0/
 file/get/2247882403?profile=original
ATTENDEE;ROLE=REQ-PARTICIPANT;PARTSTAT=ACCEPTED;RSVP=TRUE;CN="Ren the 
 Vinyl Archaeologist":https://trueskool.com/profile/xh51jvilojur
END:VEVENT
END:VCALENDAR
