BEGIN:VCALENDAR
PRODID:NingEventWidget-v1
VERSION:2.0
METHOD:PUBLISH
BEGIN:VTIMEZONE
TZID:America/Los_Angeles
X-LIC-LOCATION:America/Los_Angeles
BEGIN:DAYLIGHT
TZOFFSETFROM:-0800
TZOFFSETTO:-0700
TZNAME:PDT
DTSTART:19700308T020000
RRULE:FREQ=YEARLY;BYMONTH=3;BYDAY=2SU
END:DAYLIGHT
BEGIN:STANDARD
TZOFFSETFROM:-0700
TZOFFSETTO:-0800
TZNAME:PST
DTSTART:19701101T020000
RRULE:FREQ=YEARLY;BYMONTH=11;BYDAY=1SU
END:STANDARD
END:VTIMEZONE
BEGIN:VEVENT
UID:1464587:Event:33577
DTSTAMP:20260423T041237Z
SUMMARY:Ali Shaheed Muhammad
DESCRIPTION:\nMighty presents\nAli Shaheed Muhammad (A Tribe Called Qu
 est / Lucy Pearl)\n\nPlus:\nDj Sake 1\nRen the Vinyl Archaeologist (Tr
 ue Skool)\n\n\n@ Mighty, 119 Utah St. (@ 15th St.), SF\n10pm-2am, 21+\
 nBuy Tickets\n\n\n\n\n\n\n\n\n\n\n\n\n\n\n\nFor more information visit
  https://trueskool.com/events/ali-shaheed-muhammad-1
DTSTART;TZID=America/Los_Angeles:20090619T220000
DTEND;TZID=America/Los_Angeles:20090620T020000
CATEGORIES:hip, hop, funk, soul
LOCATION:Mighty, San Francisco, CA
WEBSITE:http://www.going.com/asm
URL:http://www.going.com/asm
CONTACT:
ORGANIZER:Mighty
ATTACH;FMTTYPE="image/jpeg":http://storage.ning.com/topology/rest/1.0/
 file/get/2247853492?profile=original
ATTENDEE;ROLE=REQ-PARTICIPANT;PARTSTAT=ACCEPTED;RSVP=TRUE;CN="Ren the 
 Vinyl Archaeologist":https://trueskool.com/profile/xh51jvilojur
END:VEVENT
END:VCALENDAR
