BEGIN:VCALENDAR
PRODID:NingEventWidget-v1
VERSION:2.0
METHOD:PUBLISH
BEGIN:VTIMEZONE
TZID:America/Los_Angeles
X-LIC-LOCATION:America/Los_Angeles
BEGIN:DAYLIGHT
TZOFFSETFROM:-0800
TZOFFSETTO:-0700
TZNAME:PDT
DTSTART:19700308T020000
RRULE:FREQ=YEARLY;BYMONTH=3;BYDAY=2SU
END:DAYLIGHT
BEGIN:STANDARD
TZOFFSETFROM:-0700
TZOFFSETTO:-0800
TZNAME:PST
DTSTART:19701101T020000
RRULE:FREQ=YEARLY;BYMONTH=11;BYDAY=1SU
END:STANDARD
END:VTIMEZONE
BEGIN:VEVENT
UID:1464587:Event:154693
DTSTAMP:20260421T065934Z
SUMMARY:ALEXANDER SPIT (performing live) with special guest BAGO
DESCRIPTION:SATURDAY JANUARY 5TH 2013\n\nTHE HUNDREDS, PHNTM CLUB, and
  THE MILK BAR present\n\nALEXANDER SPIT http://www.alexanderspit.com/ 
 https://soundcloud.com/alexanderspit\nHaving cut his teeth in ciphers 
 in and around the San Francisco Bay Area, Spit relocated to Los Angele
 s 2 years ago to hone his craft, and over the course of the subsequent
  2 mix-tapes and an instrumental masterpiece (this summer’s Mansions
 ), he’s now offering a distillation of his craft with his new album,
  A Breathtaking Trip To That Otherside, completely self-produced and a
 wash in head-spinning, hallucinatory subject matter and aural stimulan
 ts. With a carefully groomed track list featuring only a few choice MC
 s and members of his immediate clique, the LP is a focused effort, a f
 ully realized, vibrant vision that immerses the listener in the altern
 ately sun soaked and nocturnal lifestyle of a casual drug user and a v
 ery serious musician.\n\nBAGO https://soundcloud.com/bagomusic http://
 bagomusic.com/ http://bagogo.tumblr.com/\n CELLUS (PHNTM CLUB) https:/
 /soundcloud.com/cellus http://phntmclub.tumblr.com/\nSome random black
  guy.\n DJ ANT-1 http://djant1.tumblr.com/\nANT-1 spins a very classic
  and sound turntablist style. He’s very technical and he also posses
  a very unique DJ flavor. He has first class DJ Party Rock ability, bu
 t he is also recognized for breaking a lot of new music, whether hip-h
 op or electronic to even indie. ANT-1 carries a very wide and eclectic
  taste in music, being known to mix for a wide variety of crowds, US a
 nd International. He has toured many different US cities along with a 
 few international destinations and has opened for a number of prominen
 t acts. He is more known for playing edgier, ganster, bass heavy, curr
 ent rap and hip hop with a seasoned dj feel.\n\nAL LOVER https://sound
 cloud.com/al-lover www.facebook.com/pages/Al-Lover/136850922995107\nIn
  short, Al Lover is a producer from San Francisco, but there's more la
 yers to his wall of sound then meets the ear. Over the last few years 
 he has gained much notoriety for his melding of contemporary and past 
 garage and psychedelic rock into harsh yet spacey abrasive beats. Equa
 l Parts 13th Floor Elevators and DJ Shadow, Al Combines crunchy drums,
  shaky percussion, chopped samples and layers of textured effects to c
 reate an unexplored path for psychedelic music. The antithesis to the 
 highly compressed and synth heavy trend in current beat culture, Al Lo
 ver offers an earthy and loose approach that sounds more like you're l
 istening to a DMT fueled psych band than a beat made on an MPC.\nTakin
 g drugs to make beats to take drugs to.....\n\nThe Milk Bar 1840 Haigh
 t Street San Francisco\nDoors at 9pm / 21+ / $8\npre-sale tickets avai
 lable at\nhttp://alexanderspitmilk.eventbrite.com\n\nFor more informat
 ion visit https://trueskool.com/events/alexander-spit-performing-live-
 with-special-guest-bago
DTSTART;TZID=America/Los_Angeles:20130105T210000
DTEND;TZID=America/Los_Angeles:20130106T020000
CATEGORIES:"bay area", "san francisco"
LOCATION:The Milk Bar
WEBSITE:http://alexanderspitmilk.eventbrite.com/
URL:http://alexanderspitmilk.eventbrite.com/
CONTACT:
ORGANIZER;CN="Marcellus Holmes":https://trueskool.com/profile/Marcellu
 sHolmes
ATTACH;FMTTYPE="image/jpeg":http://storage.ning.com/topology/rest/1.0/
 file/get/2247932374?profile=original
ATTENDEE;ROLE=REQ-PARTICIPANT;PARTSTAT=ACCEPTED;RSVP=TRUE;CN="Marcellu
 s Holmes":https://trueskool.com/profile/MarcellusHolmes
END:VEVENT
END:VCALENDAR
