BEGIN:VCALENDAR
PRODID:NingEventWidget-v1
VERSION:2.0
METHOD:PUBLISH
BEGIN:VTIMEZONE
TZID:America/Los_Angeles
X-LIC-LOCATION:America/Los_Angeles
BEGIN:DAYLIGHT
TZOFFSETFROM:-0800
TZOFFSETTO:-0700
TZNAME:PDT
DTSTART:19700308T020000
RRULE:FREQ=YEARLY;BYMONTH=3;BYDAY=2SU
END:DAYLIGHT
BEGIN:STANDARD
TZOFFSETFROM:-0700
TZOFFSETTO:-0800
TZNAME:PST
DTSTART:19701101T020000
RRULE:FREQ=YEARLY;BYMONTH=11;BYDAY=1SU
END:STANDARD
END:VTIMEZONE
BEGIN:VEVENT
UID:1464587:Event:633590
DTSTAMP:20260421T081259Z
SUMMARY:Alborosie
DESCRIPTION:ENTER TO WIN A PAIR OF TICKETS. WINNER WILL BE DRAWN RANDO
 MLY AND ANNOUNCED 2 DAYS PRIOR TO EVENT. \n\nThursday, July 30  Earsh
 ot Entertainment & Deecee Soulshakedown present  Alborosie with Leilan
 i Wolfgramm, Bayonics, & Jah Yzer  hosted by Bigbodycisco (BigBody Rad
 io)\nMezzanine 444 Jesse St., San Francisco\n\n9PM // 21+ w/ valid ID 
 Get tickets: http://ticketf.ly/1RHSzYb\nhat happens when a natural bo
 rn music whiz begins making beats from the cradle? He may start his ow
 n band as a teenager, pen consecutive hip-knocking tunes and have his 
 life turn a sharp 180 midstream. Blame it on an elixir of fate, talent
 , technology and determination, but such is the genesis of Sicilian-bo
 rn Alberto D’Ascola, a.k.a Alborosie. After forming his own band, Th
 e Reggae National Tickets in 1993, (signed to BMG Italia), performing 
 on sold-out tours, selling over 200,000 units and solidifying his inte
 rnational reputation at memorable performances at Sunsplash in 1999 an
 d Sumfest in 2000, the Italian artist with a Reggae pedigree decided t
 o make a move to Jamaica. “I get tired and seh the world is big and 
 my country small, so I decide to come to Jamaica,” he said. Having w
 orked in Europe since the age of seventeen, Alborosie crossed over to 
 the Reggae capital and didn’t look back.  \n\n\nFor more information
  visit https://trueskool.com/events/alborosie
DTSTART;TZID=America/Los_Angeles:20150730T210000
DTEND;TZID=America/Los_Angeles:20150731T020000
CATEGORIES:"bay area", "san francisco"
LOCATION:Mezzanine, San Francisco
WEBSITE:http://ticketf.ly/1RHSzYb
URL:http://ticketf.ly/1RHSzYb
CONTACT:
ORGANIZER:Earshot Ent
ATTACH;FMTTYPE="image/jpeg":http://storage.ning.com/topology/rest/1.0/
 file/get/2247977376?profile=original
ATTENDEE;ROLE=REQ-PARTICIPANT;PARTSTAT=ACCEPTED;RSVP=TRUE;CN="Editor's
  Pick":https://trueskool.com/profile/RentheVinylArchaeologist
ATTENDEE;ROLE=REQ-PARTICIPANT;PARTSTAT=ACCEPTED;RSVP=TRUE;CN="jenni ma
 nn":https://trueskool.com/profile/jennimann
END:VEVENT
END:VCALENDAR
