BEGIN:VCALENDAR
PRODID:NingEventWidget-v1
VERSION:2.0
METHOD:PUBLISH
BEGIN:VTIMEZONE
TZID:America/Los_Angeles
X-LIC-LOCATION:America/Los_Angeles
BEGIN:DAYLIGHT
TZOFFSETFROM:-0800
TZOFFSETTO:-0700
TZNAME:PDT
DTSTART:19700308T020000
RRULE:FREQ=YEARLY;BYMONTH=3;BYDAY=2SU
END:DAYLIGHT
BEGIN:STANDARD
TZOFFSETFROM:-0700
TZOFFSETTO:-0800
TZNAME:PST
DTSTART:19701101T020000
RRULE:FREQ=YEARLY;BYMONTH=11;BYDAY=1SU
END:STANDARD
END:VTIMEZONE
BEGIN:VEVENT
UID:1464587:Event:31986
DTSTAMP:20260421T102546Z
SUMMARY:aidingANDabetting
DESCRIPTION:Nursha Project and hippysauce present:\naidingANDabetting\
 n\nThe evening line-up includes featured artist, Sunru Skywaka with Th
 e Call. Sunru electrify's any stage with his diverse range and hybrid 
 sound...fusing instruments from all over the world with electro/rock/b
 lues/hip-hop and with conscious invoking lyrics and chants to create a
  unique style of music.\nOther special guests include Aima the Dreama,
  musical duo T-Bird Luv and Evan Fraser,W.O.M.E. (Weapons of Mass Expr
 ession – Dance, Music, Theater), Genie and P.E.A.C.E. (of Legendary 
 Freestyle Fellowship) and DJ’s Divinity and Abai.\n\nThere will also
  be a screening of “Pass Me The Map” with filmmaker Spencer Wilkin
 son.\nA road trip down the Pan-American Highway investigating developm
 ent and resistance in Mexico and Central America.\n\n\nA delicious veg
 etable coconut curry on quinoa is included in the cover charge and cas
 h bar is offered.\n\n$20.00 door $15.00 advance purchase\n\nFor more i
 nformation visit https://trueskool.com/events/aidingandabetting-1
DTSTART;TZID=America/Los_Angeles:20090507T180000
DTEND;TZID=America/Los_Angeles:20090507T230000
CATEGORIES:bohemian, revolutionary
LOCATION:thaSAUCE
WEBSITE:http://www.hippysauce.com
URL:http://www.hippysauce.com
CONTACT:415.786.5099
ORGANIZER:hippysauce and Nursha Project
ATTACH;FMTTYPE="image/jpeg":http://storage.ning.com/topology/rest/1.0/
 file/get/2247856891?profile=original
ATTENDEE;ROLE=REQ-PARTICIPANT;PARTSTAT=ACCEPTED;RSVP=TRUE;CN=hippysauc
 e:https://trueskool.com/profile/hippysauce
END:VEVENT
END:VCALENDAR
