BEGIN:VCALENDAR
PRODID:NingEventWidget-v1
VERSION:2.0
METHOD:PUBLISH
BEGIN:VTIMEZONE
TZID:America/Los_Angeles
X-LIC-LOCATION:America/Los_Angeles
BEGIN:DAYLIGHT
TZOFFSETFROM:-0800
TZOFFSETTO:-0700
TZNAME:PDT
DTSTART:19700308T020000
RRULE:FREQ=YEARLY;BYMONTH=3;BYDAY=2SU
END:DAYLIGHT
BEGIN:STANDARD
TZOFFSETFROM:-0700
TZOFFSETTO:-0800
TZNAME:PST
DTSTART:19701101T020000
RRULE:FREQ=YEARLY;BYMONTH=11;BYDAY=1SU
END:STANDARD
END:VTIMEZONE
BEGIN:VEVENT
UID:1464587:Event:55396
DTSTAMP:20260421T003045Z
SUMMARY:Afrotino w/ DJ Papi Chocolate, Live music by: Boca Do Rio
DESCRIPTION:\nFRIDAY, MAY 7\nAfrotino\nWith two cultures that have pro
 duced some of the most amazingly beautiful music, it was only right to
  pay tribute with a monthly party. Come join your host and resident DJ
  Papi Chocolate and a long line of skilled DJs such as Santero, Walt D
 iggz, Marcella and many more. The Bay Area's own Boca Do Rio will bles
 s you with a live latin set to kick off this incredible monthly event.
 \n\nw/ resident\nDJ Papi Chocolate\n\nLive Brazilian Soul music:\nBoca
  Do Rio (musica organica)\n\n@ Levende East, 827 Washington St, Oaklan
 d\n10pm-2am / 21+ / realwisdom@mindspring.com\nhttp://www.levendeeast.
 com (510) 835-5585\n\nFor more information visit https://trueskool.com
 /events/afrotino-w-dj-papi-chocolate
DTSTART;TZID=America/Los_Angeles:20100507T220000
DTEND;TZID=America/Los_Angeles:20100508T020000
CATEGORIES:latin, afro
LOCATION:Levende East, Oakland
WEBSITE:http://www.levendeeast.com
URL:http://www.levendeeast.com
CONTACT:
ORGANIZER:Levende East
ATTACH;FMTTYPE="image/jpeg":http://storage.ning.com/topology/rest/1.0/
 file/get/2106907654?profile=original
ATTENDEE;ROLE=REQ-PARTICIPANT;PARTSTAT=ACCEPTED;RSVP=TRUE;CN="Dj Wisdo
 m":https://trueskool.com/profile/DjWisdom
ATTENDEE;ROLE=REQ-PARTICIPANT;PARTSTAT=ACCEPTED;RSVP=TRUE;CN="Ren the 
 Vinyl Archaeologist":https://trueskool.com/profile/xh51jvilojur
END:VEVENT
END:VCALENDAR
