BEGIN:VCALENDAR
PRODID:NingEventWidget-v1
VERSION:2.0
METHOD:PUBLISH
BEGIN:VTIMEZONE
TZID:America/Los_Angeles
X-LIC-LOCATION:America/Los_Angeles
BEGIN:DAYLIGHT
TZOFFSETFROM:-0800
TZOFFSETTO:-0700
TZNAME:PDT
DTSTART:19700308T020000
RRULE:FREQ=YEARLY;BYMONTH=3;BYDAY=2SU
END:DAYLIGHT
BEGIN:STANDARD
TZOFFSETFROM:-0700
TZOFFSETTO:-0800
TZNAME:PST
DTSTART:19701101T020000
RRULE:FREQ=YEARLY;BYMONTH=11;BYDAY=1SU
END:STANDARD
END:VTIMEZONE
BEGIN:VEVENT
UID:1464587:Event:56098
DTSTAMP:20260420T230206Z
SUMMARY:Afrotino
DESCRIPTION:Afrotino\nWith two cultures that have produced some of the
  most amazingly beautiful music it was only right to pay tribute with 
 a monthly party.Come join your host and resident dj Papi Chocolate and
  a long line of skilled djs such as Santero, Walt Digz, Marcella, and 
 many more. The Bay Areas own Boca D Rio will bless you with a live set
  to kick off this incredible monthly event. Levende East\n\nFor more i
 nformation visit https://trueskool.com/events/afrotino-1
DTSTART;TZID=America/Los_Angeles:20100507T210000
DTEND;TZID=America/Los_Angeles:20100508T020000
CATEGORIES:world, electro
LOCATION:Levende East  Oakland CA
WEBSITE:http://www.levendeeast.com
URL:http://www.levendeeast.com
CONTACT:510-835-5585
ORGANIZER:Dj Wisdom and Papi Chocolate
ATTACH;FMTTYPE="image/jpeg":
ATTENDEE;ROLE=REQ-PARTICIPANT;PARTSTAT=ACCEPTED;RSVP=TRUE;CN="Dj Wisdo
 m":https://trueskool.com/profile/DjWisdom
END:VEVENT
END:VCALENDAR
