BEGIN:VCALENDAR
PRODID:NingEventWidget-v1
VERSION:2.0
METHOD:PUBLISH
BEGIN:VTIMEZONE
TZID:America/Los_Angeles
X-LIC-LOCATION:America/Los_Angeles
BEGIN:DAYLIGHT
TZOFFSETFROM:-0800
TZOFFSETTO:-0700
TZNAME:PDT
DTSTART:19700308T020000
RRULE:FREQ=YEARLY;BYMONTH=3;BYDAY=2SU
END:DAYLIGHT
BEGIN:STANDARD
TZOFFSETFROM:-0700
TZOFFSETTO:-0800
TZNAME:PST
DTSTART:19701101T020000
RRULE:FREQ=YEARLY;BYMONTH=11;BYDAY=1SU
END:STANDARD
END:VTIMEZONE
BEGIN:VEVENT
UID:1464587:Event:54091
DTSTAMP:20260420T180745Z
SUMMARY:Afroman
DESCRIPTION:AFROMAN\nAfroman celebrates 420 at The Shattuck Down Low w
 ith one of the most entertaining live hip hop shows on the eve of Afro
 man's favorite holiday!\n\n@ Shattuck Down Low, 2284 Shattuck Ave., Be
 rkeley\n21+. doors at 9pm. Tickets $18 adv.\nEnter Discount Code \"Tru
 e Skool\" for $14 adv tix\nBuy Tickets\n\nFor more information visit h
 ttps://trueskool.com/events/afroman-1
DTSTART;TZID=America/Los_Angeles:20100419T210000
DTEND;TZID=America/Los_Angeles:20100420T020000
CATEGORIES:hip, hop, weed, 420
LOCATION:Shattuck Downlow, Berkeley
WEBSITE:http://ineffablerecords.inticketing.com/events/75226/AFROMAN
URL:http://ineffablerecords.inticketing.com/events/75226/AFROMAN
CONTACT:
ORGANIZER:Ineffable Music Group
ATTACH;FMTTYPE="image/jpeg":http://storage.ning.com/topology/rest/1.0/
 file/get/2247876891?profile=original
ATTENDEE;ROLE=REQ-PARTICIPANT;PARTSTAT=ACCEPTED;RSVP=TRUE;CN="Ren the 
 Vinyl Archaeologist":https://trueskool.com/profile/xh51jvilojur
END:VEVENT
END:VCALENDAR
