BEGIN:VCALENDAR
PRODID:NingEventWidget-v1
VERSION:2.0
METHOD:PUBLISH
BEGIN:VTIMEZONE
TZID:America/Los_Angeles
X-LIC-LOCATION:America/Los_Angeles
BEGIN:DAYLIGHT
TZOFFSETFROM:-0800
TZOFFSETTO:-0700
TZNAME:PDT
DTSTART:19700308T020000
RRULE:FREQ=YEARLY;BYMONTH=3;BYDAY=2SU
END:DAYLIGHT
BEGIN:STANDARD
TZOFFSETFROM:-0700
TZOFFSETTO:-0800
TZNAME:PST
DTSTART:19701101T020000
RRULE:FREQ=YEARLY;BYMONTH=11;BYDAY=1SU
END:STANDARD
END:VTIMEZONE
BEGIN:VEVENT
UID:1464587:Event:323361
DTSTAMP:20260421T053953Z
SUMMARY:Afrolicious Live at the New Parish in Oakland, CA
DESCRIPTION:Afrolicious teams up with Namorados da Lua and Lucio K to 
 throw it DOWN East Bay stylee. Gonna be a scorcher!!\n\nFor more infor
 mation visit https://trueskool.com/events/afrolicious-live-at-the-new-
 parish-in-oakland-ca
DTSTART;TZID=America/Los_Angeles:20140314T210000
DTEND;TZID=America/Los_Angeles:20140315T140000
CATEGORIES:oakland, ca, bay, area, east
LOCATION:The New Parish Oakland, Ca
WEBSITE:http://ticketf.ly/1fZ3QRz Details: Afrolicious at The New Pari
 sh
URL:http://ticketf.ly/1fZ3QRz Details: Afrolicious at The New Parish
CONTACT:
ORGANIZER;CN="Joe-Cheo McGuire":https://trueskool.com/profile/JoeCheoM
 cGuire
ATTACH;FMTTYPE="image/jpeg":
ATTENDEE;ROLE=REQ-PARTICIPANT;PARTSTAT=ACCEPTED;RSVP=TRUE;CN="Joe-Cheo
  McGuire":https://trueskool.com/profile/JoeCheoMcGuire
END:VEVENT
END:VCALENDAR
