BEGIN:VCALENDAR
PRODID:NingEventWidget-v1
VERSION:2.0
METHOD:PUBLISH
BEGIN:VTIMEZONE
TZID:America/Los_Angeles
X-LIC-LOCATION:America/Los_Angeles
BEGIN:DAYLIGHT
TZOFFSETFROM:-0800
TZOFFSETTO:-0700
TZNAME:PDT
DTSTART:19700308T020000
RRULE:FREQ=YEARLY;BYMONTH=3;BYDAY=2SU
END:DAYLIGHT
BEGIN:STANDARD
TZOFFSETFROM:-0700
TZOFFSETTO:-0800
TZNAME:PST
DTSTART:19701101T020000
RRULE:FREQ=YEARLY;BYMONTH=11;BYDAY=1SU
END:STANDARD
END:VTIMEZONE
BEGIN:VEVENT
UID:1464587:Event:526031
DTSTAMP:20260421T223225Z
SUMMARY:Afrolicious Band | FREE B4 11PM w/ RSVP
DESCRIPTION:\nFRIDAY JAN 30\nBerkeley Underground presents\nAfroliciou
 s Band\n \nFeaturing: Pleasuremaker \nSenor Oz\n \nBerkeley Undergr
 ound, 2484 Shattuck Ave., Berkeley\n21+, 10pm-2am\n$10, $5 w/ RSVP \n
 \n\n\nFor more information visit https://trueskool.com/events/afrolici
 ous-band
DTSTART;TZID=America/Los_Angeles:20150130T180000
DTEND;TZID=America/Los_Angeles:20150131T190000
CATEGORIES:"bay area", berkeley
LOCATION:Berkeley Underground, Berkeley, CA
WEBSITE:https://afrolicioussoundsystem.eventbrite.com
URL:https://afrolicioussoundsystem.eventbrite.com
CONTACT:
ORGANIZER:Berkeley Underground
ATTACH;FMTTYPE="image/jpeg":http://storage.ning.com/topology/rest/1.0/
 file/get/2247973117?profile=original
ATTENDEE;ROLE=REQ-PARTICIPANT;PARTSTAT=ACCEPTED;RSVP=TRUE;CN="Editor's
  Pick":https://trueskool.com/profile/RentheVinylArchaeologist
END:VEVENT
END:VCALENDAR
