BEGIN:VCALENDAR
PRODID:NingEventWidget-v1
VERSION:2.0
METHOD:PUBLISH
BEGIN:VTIMEZONE
TZID:America/Los_Angeles
X-LIC-LOCATION:America/Los_Angeles
BEGIN:DAYLIGHT
TZOFFSETFROM:-0800
TZOFFSETTO:-0700
TZNAME:PDT
DTSTART:19700308T020000
RRULE:FREQ=YEARLY;BYMONTH=3;BYDAY=2SU
END:DAYLIGHT
BEGIN:STANDARD
TZOFFSETFROM:-0700
TZOFFSETTO:-0800
TZNAME:PST
DTSTART:19701101T020000
RRULE:FREQ=YEARLY;BYMONTH=11;BYDAY=1SU
END:STANDARD
END:VTIMEZONE
BEGIN:VEVENT
UID:1464587:Event:41529
DTSTAMP:20260421T022240Z
SUMMARY:Afro Classics (Scarub & Very) & The Understudies
DESCRIPTION:The Classic Rock Tour - Last Show Bash! w/ Drink Specials 
 @ Atmopshere, San Francisco\nFeaturing Afro Classics (Scarub of Living
  Legends & Very of USpros)\nThe Understudies w/ DJ MRC\n+ SpeciaLL Gue
 sts Bicasso of Living Legends & Elijah The Poet\n\nSan Francisco, CA -
  The Afro Classics (Scarub of Living Legends & Very) hit the road Frid
 ay, Oct. 2nd on their 20 date Classic Rock Tour in support of their br
 and new album of the same name. October 22nd @ Atmosphere in San Franc
 isco, CA will mark the final show of the tour and it’s only fitting 
 that they return to the birthplace of the Living Legends, the San Fran
 cisco Bay Area.\nFor those that don't know, Afro Classics are a Los An
 geles based Hip Hop group, consisting of Scarub from the world famous 
 Living Legends & Very of USpros. Both highly skilled & seasoned lyrici
 sts and performers, Afro Classics have been respected in the notorious
  Los Angeles underground hip hop scene for over 10 years, as well as a
 round North America, Western Europe, Japan & Australia touring with Li
 ving Legends. The duo released the critically acclaimed Classic EP ear
 lier this year (Legendary Music, 2009) and have a brand new full lengt
 h album out now, entitled Classic Rock.\nJoining the bill for the fina
 l show of the tour will be buzzing Bay Area group The Understudies w/ 
 DJ MRC, fresh off of a two week west coast tour of their own, alongsid
 e Aesop of Living Legends and Ro Knew & Influence. The Understudies ar
 e known for their energetic stage show with witty, intelligent lyrics 
 and their variety of unique, well tailored production. While preparing
  the 4th serving of their “CollectiveCompliments” album series, Th
 e Understudies released Citizen’s In Search of Her Soul EP and the V
 enture Capitalists’ Rate of Exchange LP through their own Study Musi
 c imprint and in addition recently partnered with Los Angeles based pu
 blisher Dogpatch Media for exclusive physical & digital releases in ad
 dition to supplementary live performances and touring.\nAfro Classics 
 Classic Rock LP, Citizen (of The Understudies) In Search of Her Soul E
 P and Venture Capitalists (Welsed & Self Advocate of The Understudies)
  Rate of Exchange LP are all available now @ www.accesshiphop.com\n& T
 he Understudies CC3...Or Something Album available now for free digita
 l download @ www.understudiescrew.com\n\nEvent Info: (Date: October 22
 nd, 2009 Category: Live Music/Concerts Genre: Hip Hop)\nRozkin Records
  & Study Music\nIn association with Brokeneck Customs present\nThe Cla
 ssic Rock Tour - Last Show Bash w/ Special Guests!\nFeaturing Afro Cla
 ssics / Scarub of Living Legends & Very\nThe Understudies w/ DJ MRC\n&
  Special Guest Elijah The Poet w/ Bicasso (of Living Legends)\n\nDoors
 : 10pm Show: 11pm\nCover: $10\nAge Limit: 21+\nClub Atmosphere (www.a3
 atmosphere.com)\n447 BROADWAY\nSAN FRANCISCO, CA 94133\n[ BETWEEN MONT
 GOMERY & KEARNY ]\n415 . 788 . 4623\n\nFor more information visit http
 s://trueskool.com/events/afro-classics-scarub-very
DTSTART;TZID=America/Los_Angeles:20091022T220000
DTEND;TZID=America/Los_Angeles:20091023T020000
CATEGORIES:hip, hop
LOCATION:Atmosphere, San Francisco, CA
WEBSITE:http://www.a3atmosphere.com
URL:http://www.a3atmosphere.com
CONTACT:
ORGANIZER:Rozkin Records, Study Music & Brokeneck Kustoms
ATTACH;FMTTYPE="image/jpeg":http://storage.ning.com/topology/rest/1.0/
 file/get/2247865903?profile=original
ATTENDEE;ROLE=REQ-PARTICIPANT;PARTSTAT=ACCEPTED;RSVP=TRUE;CN=CitizenOf
 TheUnderstudies:https://trueskool.com/profile/CitizenOfTheUnderstudies
END:VEVENT
END:VCALENDAR
