BEGIN:VCALENDAR
PRODID:NingEventWidget-v1
VERSION:2.0
METHOD:PUBLISH
BEGIN:VTIMEZONE
TZID:America/Los_Angeles
X-LIC-LOCATION:America/Los_Angeles
BEGIN:DAYLIGHT
TZOFFSETFROM:-0800
TZOFFSETTO:-0700
TZNAME:PDT
DTSTART:19700308T020000
RRULE:FREQ=YEARLY;BYMONTH=3;BYDAY=2SU
END:DAYLIGHT
BEGIN:STANDARD
TZOFFSETFROM:-0700
TZOFFSETTO:-0800
TZNAME:PST
DTSTART:19701101T020000
RRULE:FREQ=YEARLY;BYMONTH=11;BYDAY=1SU
END:STANDARD
END:VTIMEZONE
BEGIN:VEVENT
UID:1464587:Event:70073
DTSTAMP:20260420T180927Z
SUMMARY:AFRIKA BAMBAATAA (Godfather of Hip-Hop)
DESCRIPTION:CLICK HERE TO WIN A PAIR OF TICKETS:\nhttp://www.trueskool
 .com/group/wintickets\n\n\nSATURDAY, NOVEMBER 27\nAFRIKA BAMBAATAA\nth
 e Godfather of Hip-Hop / Zulu Nation\nOne Show Only!\n\nAfrika Bambaat
 aa, one of the three main originators of break-beat deejaying, is resp
 ectfully known as the \"Grandfather\" and \"Godfather\" of Hip Hop Cul
 ture as well as The Father of The Electro Funk Sound. Through his co-o
 pting of the street gang the Black Spades into the music and culture-o
 riented Zulu Nation, he is responsible for spreading rap and hip-hop c
 ulture throughout the world. He has consistently made records national
 ly and internationally, every one to two years, spanning the 1980's in
 to the next Millennium 2000.\n\nYoshi's, 1330 Fillmore Street, San Fra
 ncisco, CA 94115\n10:30pm - $16\nOpen Dance Floor\n» BUY TICKETS\n\
 nFor more information visit https://trueskool.com/events/afrika-bambaa
 taa-godfather-of
DTSTART;TZID=America/Los_Angeles:20101127T223000
DTEND;TZID=America/Los_Angeles:20101128T003000
CATEGORIES:san, francisco, ca
LOCATION:Yoshi's, San Francisco, CA
WEBSITE:http://sfyoshis2.inticketing.com/events/134657
URL:http://sfyoshis2.inticketing.com/events/134657
CONTACT:
ORGANIZER:Yoshi's
ATTACH;FMTTYPE="image/jpeg":http://storage.ning.com/topology/rest/1.0/
 file/get/2247843240?profile=original
ATTENDEE;ROLE=REQ-PARTICIPANT;PARTSTAT=ACCEPTED;RSVP=TRUE;CN="Ren the 
 Vinyl Archaeologist":https://trueskool.com/profile/xh51jvilojur
END:VEVENT
END:VCALENDAR
