BEGIN:VCALENDAR
PRODID:NingEventWidget-v1
VERSION:2.0
METHOD:PUBLISH
BEGIN:VTIMEZONE
TZID:America/Los_Angeles
X-LIC-LOCATION:America/Los_Angeles
BEGIN:DAYLIGHT
TZOFFSETFROM:-0800
TZOFFSETTO:-0700
TZNAME:PDT
DTSTART:19700308T020000
RRULE:FREQ=YEARLY;BYMONTH=3;BYDAY=2SU
END:DAYLIGHT
BEGIN:STANDARD
TZOFFSETFROM:-0700
TZOFFSETTO:-0800
TZNAME:PST
DTSTART:19701101T020000
RRULE:FREQ=YEARLY;BYMONTH=11;BYDAY=1SU
END:STANDARD
END:VTIMEZONE
BEGIN:VEVENT
UID:1464587:Event:318205
DTSTAMP:20260421T094615Z
SUMMARY:Africa Now (NYC)
DESCRIPTION:\nAfrica Now\nDetails: Africa Now!\n\n\nApollo Theater N
 ew York, NY\n\nSat, 04/05/1408:00 PM\n\nFind Tickets\n\n\n\n\n\nFor m
 ore information visit https://trueskool.com/events/africa-now-nyc
DTSTART;TZID=America/Los_Angeles:20140226T200000
DTEND;TZID=America/Los_Angeles:20140226T230000
CATEGORIES:nyc
LOCATION:Apollo Theater, NY
WEBSITE:http://www.ticketmaster.com/Africa-Now-tickets/artist/1867895
URL:http://www.ticketmaster.com/Africa-Now-tickets/artist/1867895
CONTACT:
ORGANIZER;CN="Editor's Pick":https://trueskool.com/profile/RentheVinyl
 Archaeologist
ATTACH;FMTTYPE="image/jpeg":http://storage.ning.com/topology/rest/1.0/
 file/get/2247957244?profile=original
ATTENDEE;ROLE=REQ-PARTICIPANT;PARTSTAT=ACCEPTED;RSVP=TRUE;CN="Editor's
  Pick":https://trueskool.com/profile/RentheVinylArchaeologist
END:VEVENT
END:VCALENDAR
