BEGIN:VCALENDAR
PRODID:NingEventWidget-v1
VERSION:2.0
METHOD:PUBLISH
BEGIN:VTIMEZONE
TZID:America/Los_Angeles
X-LIC-LOCATION:America/Los_Angeles
BEGIN:DAYLIGHT
TZOFFSETFROM:-0800
TZOFFSETTO:-0700
TZNAME:PDT
DTSTART:19700308T020000
RRULE:FREQ=YEARLY;BYMONTH=3;BYDAY=2SU
END:DAYLIGHT
BEGIN:STANDARD
TZOFFSETFROM:-0700
TZOFFSETTO:-0800
TZNAME:PST
DTSTART:19701101T020000
RRULE:FREQ=YEARLY;BYMONTH=11;BYDAY=1SU
END:STANDARD
END:VTIMEZONE
BEGIN:VEVENT
UID:1464587:Event:68798
DTSTAMP:20260420T130843Z
SUMMARY:ACTRESS, LOW LIMIT - Big Up Second Birthday
DESCRIPTION:Darren Cunningham, better known as Actress, the mind behin
 d Werk Discs label, home to the likes of Lone, Zomby, Starkey and Luki
 d, is definitely one of the most significant UK’s music figures, who
  manages to stay away from the social spotlight, while continually ach
 ieving outstanding musical results.\n\nHis latest album Splazsh has be
 come one of the most anticipated and most talked about in the past few
  months. And as Resident Advisor’s Todd Burns notes: “I just got t
 ired after a while, thinking up more words to put in the “genre” b
 ox for Actress’ Splazsh. Dubstep. House. Techno. Experimental. And, 
 really, what’s the point?”\n\nDazed&Confused magazine describes hi
 m as “an artist so underground that even his own friends doubt his e
 xistence.” A mystery indeed, Actress’s sets are “variable depend
 ing on the night and mood,” some describe his performances as one of
  the “most prolific club experiences.” We wonder, how Actress is g
 oing to surprise us in San Francisco…\n\n++++++++++++++\nSUPPORT FRO
 M:\nLOW LIMIT of LAZER SWORD\nJUS WAN\nSHLOHMO\nHosted by: MC DUH and 
 EMCEE CHILD\n\n++++++++++++++\nArt by ELISA SASSI – featured artist 
 in Big Up Vol.8\n\nBUY PRESALES: http://www.inticketing.com/events/133
 682\n\nCheck out the details, RSVP on the Facebook event page: http://
 www.facebook.com/event.php?eid=154489701255946\n\nFor more information
  visit https://trueskool.com/events/actress-low-limit-big-up
DTSTART;TZID=America/Los_Angeles:20101105T220000
DTEND;TZID=America/Los_Angeles:20101106T030000
CATEGORIES:161, erie, "st.", san, francisco, ca
LOCATION:Public Works, San Francisco, CA
WEBSITE:
URL:
CONTACT:
ORGANIZER:Big Up Magazine
ATTACH;FMTTYPE="image/jpeg":http://storage.ning.com/topology/rest/1.0/
 file/get/2247885851?profile=original
ATTENDEE;ROLE=REQ-PARTICIPANT;PARTSTAT=ACCEPTED;RSVP=TRUE;CN="Big Up":
 https://trueskool.com/profile/BigUp
END:VEVENT
END:VCALENDAR
