BEGIN:VCALENDAR
PRODID:NingEventWidget-v1
VERSION:2.0
METHOD:PUBLISH
BEGIN:VTIMEZONE
TZID:America/Los_Angeles
X-LIC-LOCATION:America/Los_Angeles
BEGIN:DAYLIGHT
TZOFFSETFROM:-0800
TZOFFSETTO:-0700
TZNAME:PDT
DTSTART:19700308T020000
RRULE:FREQ=YEARLY;BYMONTH=3;BYDAY=2SU
END:DAYLIGHT
BEGIN:STANDARD
TZOFFSETFROM:-0700
TZOFFSETTO:-0800
TZNAME:PST
DTSTART:19701101T020000
RRULE:FREQ=YEARLY;BYMONTH=11;BYDAY=1SU
END:STANDARD
END:VTIMEZONE
BEGIN:VEVENT
UID:1464587:Event:324447
DTSTAMP:20260421T102712Z
SUMMARY:Act A Fool - Equipto Birthday Party
DESCRIPTION:\nSATURDAY MAR 15Act A Fool - Equipto Birthday Party\n\nF
 eaturing King TeeMac MallTotally Insane (Reunion Show)Michael Marshall
 Solid CityDJ Troubleman \nDJ Myke One\n\nSlim's, 333 11th Street, S
 an Francisco, California \nDoors @ 8:00 PM | Event @ 9:00 PM | All 
 Ages\n>> BUY TICKETS\n\nFor more information visit https://trueskool.c
 om/events/act-a-fool-equipto-birthday-party
DTSTART;TZID=America/Los_Angeles:20140315T220000
DTEND;TZID=America/Los_Angeles:20140316T020000
CATEGORIES:"bay area", "san francisco"
LOCATION:Slim's, San Francisco
WEBSITE:http://tickets.slims-sf.com/evinfo.php?eventid=394590
URL:http://tickets.slims-sf.com/evinfo.php?eventid=394590
CONTACT:
ORGANIZER:Equipto
ATTACH;FMTTYPE="image/jpeg":http://storage.ning.com/topology/rest/1.0/
 file/get/2247958130?profile=original
ATTENDEE;ROLE=REQ-PARTICIPANT;PARTSTAT=ACCEPTED;RSVP=TRUE;CN="Staff Pi
 ck":https://trueskool.com/profile/Ren
END:VEVENT
END:VCALENDAR
