BEGIN:VCALENDAR
PRODID:NingEventWidget-v1
VERSION:2.0
METHOD:PUBLISH
BEGIN:VTIMEZONE
TZID:America/Los_Angeles
X-LIC-LOCATION:America/Los_Angeles
BEGIN:DAYLIGHT
TZOFFSETFROM:-0800
TZOFFSETTO:-0700
TZNAME:PDT
DTSTART:19700308T020000
RRULE:FREQ=YEARLY;BYMONTH=3;BYDAY=2SU
END:DAYLIGHT
BEGIN:STANDARD
TZOFFSETFROM:-0700
TZOFFSETTO:-0800
TZNAME:PST
DTSTART:19701101T020000
RRULE:FREQ=YEARLY;BYMONTH=11;BYDAY=1SU
END:STANDARD
END:VTIMEZONE
BEGIN:VEVENT
UID:1464587:Event:673035
DTSTAMP:20260421T115428Z
SUMMARY:A Tribute for Nujabes with Shing02 & The Chee-Choos feat. Cise
  Starr
DESCRIPTION:\r\n SUNDAY, MAR 4\r\n Goldenvoice presents\r\n A Tribute 
 for Nujabes with Shing02 & The Chee-Choos feat. Cise Starr\r\n with Sp
 in Master A-1 & Chily-T\r\nThe Regency Ballroom San Francisco, CA - \r
 \n 8:00 PM Ages: All Ages\r\n >> BUY TICKETS\r\n\r\n\r\n\n\nFor more i
 nformation visit https://trueskool.com/events/a-tribute-for-nujabes-wi
 th-shing02-the-chee-choos-feat-cise-starr
DTSTART;TZID=America/Los_Angeles:20180304T200000
DTEND;TZID=America/Los_Angeles:20180304T230000
CATEGORIES:"bay area", "san francisco"
LOCATION:Regency Ballroom, SF
WEBSITE:https://www.axs.com/events/347572/a-tribute-for-nujabes-with-s
 hing02-the-chee-choos-feat-cise-starr-tickets?src=HKADLFGHU4UP8MRM4TOM
 S08R&amp;amp;t_tags=HKADLFGHU4UP8MRM4TOMS08R&amp;amp;mkt_campaign=HKAD
 LFGHU4UP8MRM4TOMS08R
URL:https://www.axs.com/events/347572/a-tribute-for-nujabes-with-shing
 02-the-chee-choos-feat-cise-starr-tickets?src=HKADLFGHU4UP8MRM4TOMS08R
 &amp;amp;t_tags=HKADLFGHU4UP8MRM4TOMS08R&amp;amp;mkt_campaign=HKADLFGH
 U4UP8MRM4TOMS08R
CONTACT:
ORGANIZER:Goldenvoice
ATTACH;FMTTYPE="image/jpeg":http://storage.ning.com/topology/rest/1.0/
 file/get/2248004840?profile=original
ATTENDEE;ROLE=REQ-PARTICIPANT;PARTSTAT=ACCEPTED;RSVP=TRUE;CN="Editor's
  Pick":https://trueskool.com/profile/RentheVinylArchaeologist
END:VEVENT
END:VCALENDAR
