BEGIN:VCALENDAR
PRODID:NingEventWidget-v1
VERSION:2.0
METHOD:PUBLISH
BEGIN:VTIMEZONE
TZID:America/Los_Angeles
X-LIC-LOCATION:America/Los_Angeles
BEGIN:DAYLIGHT
TZOFFSETFROM:-0800
TZOFFSETTO:-0700
TZNAME:PDT
DTSTART:19700308T020000
RRULE:FREQ=YEARLY;BYMONTH=3;BYDAY=2SU
END:DAYLIGHT
BEGIN:STANDARD
TZOFFSETFROM:-0700
TZOFFSETTO:-0800
TZNAME:PST
DTSTART:19701101T020000
RRULE:FREQ=YEARLY;BYMONTH=11;BYDAY=1SU
END:STANDARD
END:VTIMEZONE
BEGIN:VEVENT
UID:1464587:Event:314500
DTSTAMP:20260421T070559Z
SUMMARY:A Night of Classic Hip Hop w/ Ren the Vinyl Archaeologist & DJ
  Hollandaze (NYC)
DESCRIPTION:\nFRIDAY FEB 28\nA Night of Classic Hip Hop\n \nOn the We
 els of Steel Ren the Vinyl Archaeologist (True Skool)\nwith special gu
 est:\nDJ Hollandaze (NYC)\n \nDroppin' classic gems alll night!\n \n
 @ The Rock Steady, 1741 San Pablo Ave., Oakland\n10pm-2am. No cover. 2
 1+ w/ ID.\n \n\nGolden Era Mix by Ren The Vinyl Archaeologist on Mixcl
 oud\n\n\nFor more information visit https://trueskool.com/events/a-nig
 ht-of-classic-hip-hop-w-ren-the-vinyl-archaeologist-dj-holla
DTSTART;TZID=America/Los_Angeles:20140228T220000
DTEND;TZID=America/Los_Angeles:20140301T140000
CATEGORIES:"bay area", oakland
LOCATION:The Rock Steady, Oakland
WEBSITE:https://www.facebook.com/events/1392224387687895
URL:https://www.facebook.com/events/1392224387687895
CONTACT:
ORGANIZER:True Skool
ATTACH;FMTTYPE="image/jpeg":http://storage.ning.com/topology/rest/1.0/
 file/get/2247957138?profile=original
ATTENDEE;ROLE=REQ-PARTICIPANT;PARTSTAT=ACCEPTED;RSVP=TRUE;CN="Editor's
  Pick":https://trueskool.com/profile/RentheVinylArchaeologist
ATTENDEE;ROLE=REQ-PARTICIPANT;PARTSTAT=ACCEPTED;RSVP=TRUE;CN="rob eep"
 :https://trueskool.com/profile/robeep
END:VEVENT
END:VCALENDAR
