BEGIN:VCALENDAR
PRODID:NingEventWidget-v1
VERSION:2.0
METHOD:PUBLISH
BEGIN:VTIMEZONE
TZID:America/Los_Angeles
X-LIC-LOCATION:America/Los_Angeles
BEGIN:DAYLIGHT
TZOFFSETFROM:-0800
TZOFFSETTO:-0700
TZNAME:PDT
DTSTART:19700308T020000
RRULE:FREQ=YEARLY;BYMONTH=3;BYDAY=2SU
END:DAYLIGHT
BEGIN:STANDARD
TZOFFSETFROM:-0700
TZOFFSETTO:-0800
TZNAME:PST
DTSTART:19701101T020000
RRULE:FREQ=YEARLY;BYMONTH=11;BYDAY=1SU
END:STANDARD
END:VTIMEZONE
BEGIN:VEVENT
UID:1464587:Event:324393
DTSTAMP:20260421T040931Z
SUMMARY:\"A Night of Classic Hip Hop\" featuring Pam the Funkstress (T
 he Coup) & Ren the Vinyl Archaeologist
DESCRIPTION:\nFRIDAY MAR 28 True Skool presents  A NIGHT OF CLASSIC HI
 P HOP\n80s Edition (Hip hop x Electro x Freestyle x Go Go)\n\nFeaturin
 g: Pam the Funsktress (The Coup) Ren the Vinyl Archaeologist (True Sko
 ol)\n@ The NEW Rock Steady, 1741 San Pablo Ave., Oakland 10pm-2am | 21
 + FREE BEFORE 11PM, $5 AFTER For Guest List, send FULL NAME(S) to true
 skoolparty@gmail.com (FREE ALL NIGHT if you're on the list)\n\nFor mor
 e information visit https://trueskool.com/events/a-night-of-classic-hi
 p-hop-featuring-pam-the-funkstress-the-coup-
DTSTART;TZID=America/Los_Angeles:20140328T220000
DTEND;TZID=America/Los_Angeles:20140329T020000
CATEGORIES:"bay area", oakland
LOCATION:The NEW Rock Steady, Oakland
WEBSITE:https://www.facebook.com/events/235309279986683
URL:https://www.facebook.com/events/235309279986683
CONTACT:
ORGANIZER:True Skool
ATTACH;FMTTYPE="image/jpeg":http://storage.ning.com/topology/rest/1.0/
 file/get/2247958844?profile=original
ATTENDEE;ROLE=REQ-PARTICIPANT;PARTSTAT=ACCEPTED;RSVP=TRUE;CN="Staff Pi
 ck":https://trueskool.com/profile/Ren
END:VEVENT
END:VCALENDAR
