BEGIN:VCALENDAR
PRODID:NingEventWidget-v1
VERSION:2.0
METHOD:PUBLISH
BEGIN:VTIMEZONE
TZID:America/Los_Angeles
X-LIC-LOCATION:America/Los_Angeles
BEGIN:DAYLIGHT
TZOFFSETFROM:-0800
TZOFFSETTO:-0700
TZNAME:PDT
DTSTART:19700308T020000
RRULE:FREQ=YEARLY;BYMONTH=3;BYDAY=2SU
END:DAYLIGHT
BEGIN:STANDARD
TZOFFSETFROM:-0700
TZOFFSETTO:-0800
TZNAME:PST
DTSTART:19701101T020000
RRULE:FREQ=YEARLY;BYMONTH=11;BYDAY=1SU
END:STANDARD
END:VTIMEZONE
BEGIN:VEVENT
UID:1464587:Event:308436
DTSTAMP:20260421T040630Z
SUMMARY:89.9 KCRW presents theLIFT (LA) 4 YEAR ANNIVERSARY w/ GILLES P
 ETERSON + DJ LO DOWN LORETTA BROWN aka ERYKAH BADU + DAM-FUNK  + VERY 
 SPECIAL \"KILLER\" GUEST + JEREMY SOLE (KCRW) & WISEACRE (the303 NYC)
DESCRIPTION:since it's humble beginnings in january 2010, theLIFT has 
 \"grown up\" and matured into a powerhouse LA event. created and hoste
 d by JEREMY SOLE & ERIC TUCKER (DJ WISEACRE), with JONATHAN RUDNICK (G
 iant Step co-founder/Noise Pop/Flavorpill) dedicated to the dance and 
 music community of los angeles and beyond.\neach month theLIFT seeks t
 o discover unique locations to house their monthly invocation that has
  seen the talents of GILLES PETERSON, MOODYMANN, PSYCHEMAGIK, BLACK CO
 FFEE, DANNY KRIVIT, BONOBO, BENJI B, PETER KRUDER, JUAN MACLEAN, NICKO
 DEMUS, KARIZMA, DJ SPINNA, KING BRITT, MARK DE CLIVE LOWE, SIMBAD, ELE
 CTRIC WIRE HUSTLE and LEFTO to name a few. theLIFT is committed not to
  musical genres, but does delight in fine music radiating from many di
 fferent points of this planet.  It is with much pleasure we turn 4 yea
 rs strong with the world's most celebrated music lover and our good fr
 iend GILLES PETERSON together with oh my goodness ! DJ LO DOWN LORETTA
  BROWN aka ERYKAH BADU + DAM-FUNK the ambassador of boogie funk + A KI
 LLER special guest (you know who !)\nall simply to realize this madnes
 s we call theLIFT with you   For all things GILLES PETERSON ?Brownswoo
 d / BBC Radio 6 - be sure to check in at: http://www.gillespetersonwor
 ldwide.com/  When all is said and done, whichever role Gilles is perfo
 rming – DJ, broadcaster, producer, compiler, label boss or plain old
  record collector – the music is always the bottom line.  Starting o
 ff life as a club DJ, Gilles continues to spin regularly around the wo
 rld. This year alone has seen him in Rio, Martinique, Tokyo, Havana an
 d most parts of Europe as well as East London of course. As for the ra
 dio, his new 3-hour Saturday afternoon show on BBC Radio 6 Music has s
 een him take his unique musical mix to a new and growing audience of m
 usic lovers and where luminaries like Radiohead's Thom Yorke, Erykah B
 adu, Toro y Moi drop in; whilst the syndicated Worldwide radio show co
 ntinues to spread his musical gospel globally. From Sun-Ra to Herbie H
 ancock, James Blake to Theo Parrish to Flying Lotus and Nina Simone to
  Laura Mvula – if it swings in the right places, it’s in.  From Ac
 id Jazz to Talkin’ Loud and now Brownswood Recordings, Gilles’s wo
 rk as an A&R, as a producer; as a remixer and, of course, as the curat
 or of compilations only seems to intensify. His longstanding love affa
 ir with Cuba and its musical subcultures has manifested itself in five
  albums under the auspices of the “Havana Cultura” project. The la
 test of these excursions – ‘Mala in Cuba’ – released in Septem
 ber 2012, sent tremors (literally!) through the electronic underground
 .  Starting off life as a club DJ, Gilles continues to spin passionate
 ly around the world. From Kazakhstan to Hackney, Istanbul, New York, B
 eijing and beyond… he has always seen himself first and foremost as 
 a selector of discs for the Dance!  about theLIFT https://www.facebook
 .com/tryandfindus\n\nFor more information visit https://trueskool.com/
 events/89-9-kcrw-presents-thelift-la-4-year-anniversary-w-gilles
DTSTART;TZID=America/Los_Angeles:20140223T200000
DTEND;TZID=America/Los_Angeles:20140224T020000
CATEGORIES:"los angeles", "downtown la", dtla
LOCATION:Mayan Theater, Los Angeles
WEBSITE:http://www.eventbrite.com/e/899-kcrw-presents-thelift-la-4-yea
 r-anniversary-w-gilles-peterson-very-special-killer-guest-tickets-1042
 7650383
URL:http://www.eventbrite.com/e/899-kcrw-presents-thelift-la-4-year-an
 niversary-w-gilles-peterson-very-special-killer-guest-tickets-10427650
 383
CONTACT:
ORGANIZER:theLIFT
ATTACH;FMTTYPE="image/jpeg":http://storage.ning.com/topology/rest/1.0/
 file/get/2247959106?profile=original
ATTENDEE;ROLE=REQ-PARTICIPANT;PARTSTAT=ACCEPTED;RSVP=TRUE;CN="Jonathan
  Rudnick":https://trueskool.com/profile/JonathanRudnick
END:VEVENT
END:VCALENDAR
