BEGIN:VCALENDAR
PRODID:NingEventWidget-v1
VERSION:2.0
METHOD:PUBLISH
BEGIN:VTIMEZONE
TZID:America/Los_Angeles
X-LIC-LOCATION:America/Los_Angeles
BEGIN:DAYLIGHT
TZOFFSETFROM:-0800
TZOFFSETTO:-0700
TZNAME:PDT
DTSTART:19700308T020000
RRULE:FREQ=YEARLY;BYMONTH=3;BYDAY=2SU
END:DAYLIGHT
BEGIN:STANDARD
TZOFFSETFROM:-0700
TZOFFSETTO:-0800
TZNAME:PST
DTSTART:19701101T020000
RRULE:FREQ=YEARLY;BYMONTH=11;BYDAY=1SU
END:STANDARD
END:VTIMEZONE
BEGIN:VEVENT
UID:1464587:Event:658336
DTSTAMP:20260423T053043Z
SUMMARY:80s X 90s
DESCRIPTION:\nFriday, April 14th\n80s X 90s \n\nDJ Dave Paul will bre
 ak down the 80s and 90s and reconstruct the decades at DNA Lounge. Sp
 ecial appearance by freestyle artist Trinere.   All genres - rap, roc
 k, new wave, pop, dance, freestyle, soul, R&B, new jack swing, house e
 tc. Bust out your retro gear and come have some fun.\n\nat DNA Lounge 
 - 375 11th St, San Francisco, CA 94103. 9pm, $10-$15, 18+. \n\n❌ Ma
 rks the Spot  DJ Dave Paul began his music career in 1984, starting as
  a mobile dj and evolving into a prominent college radio dj, club dj, 
 and remixer in San Francisco. In 1991 he launched the now legendary pu
 blication The Bomb Hip-Hop Magazine and in 1995 Paul transformed the m
 agazine into a record label. The company was named \"one of the fiftee
 n independent labels that matter\" according to Rolling Stone and the 
 labels Return of the DJ series was ranked by Spin Magazine as #25 in t
 heir \"The 90 Greatest Albums of the 90's\" (Sept. 1999 issue), receiv
 ing a higher rating than Gold & Platinum albums by Lauryn Hill, Pearl 
 Jam, Metallica, Green Day and Fatboy Slim. Dave Paul has appeared on t
 he front cover of Billboard magazine and is featured in the motion pic
 ture Scratch. Mr. Paul has dj'ed throughout the US, toured Europe, rel
 eased over 100 projects on his record label and currently produces the
 me parties including That BIG 80s Party and The Prince and Michael Exp
 erience.\n\nFor more information visit https://trueskool.com/events/80
 s-x-90s
DTSTART;TZID=America/Los_Angeles:20170414T220000
DTEND;TZID=America/Los_Angeles:20170415T023000
CATEGORIES:san, francisco
LOCATION:DNA Lounge, San Francisco
WEBSITE:https://www.facebook.com/events/162790707543505/
URL:https://www.facebook.com/events/162790707543505/
CONTACT:
ORGANIZER;CN="Dave Paul":https://trueskool.com/profile/DavePaul
ATTACH;FMTTYPE="image/jpeg":http://storage.ning.com/topology/rest/1.0/
 file/get/2247995736?profile=original
ATTENDEE;ROLE=REQ-PARTICIPANT;PARTSTAT=ACCEPTED;RSVP=TRUE;CN="Tali Ben
 attar":https://trueskool.com/profile/TaliBenattar550
ATTENDEE;ROLE=REQ-PARTICIPANT;PARTSTAT=ACCEPTED;RSVP=TRUE;CN="Dave Pau
 l":https://trueskool.com/profile/DavePaul
END:VEVENT
END:VCALENDAR
