BEGIN:VCALENDAR
PRODID:NingEventWidget-v1
VERSION:2.0
METHOD:PUBLISH
BEGIN:VTIMEZONE
TZID:America/Los_Angeles
X-LIC-LOCATION:America/Los_Angeles
BEGIN:DAYLIGHT
TZOFFSETFROM:-0800
TZOFFSETTO:-0700
TZNAME:PDT
DTSTART:19700308T020000
RRULE:FREQ=YEARLY;BYMONTH=3;BYDAY=2SU
END:DAYLIGHT
BEGIN:STANDARD
TZOFFSETFROM:-0700
TZOFFSETTO:-0800
TZNAME:PST
DTSTART:19701101T020000
RRULE:FREQ=YEARLY;BYMONTH=11;BYDAY=1SU
END:STANDARD
END:VTIMEZONE
BEGIN:VEVENT
UID:1464587:Event:38944
DTSTAMP:20260422T182910Z
SUMMARY:8 ANNUAL HI CARIBBEAN IN WHITE EVENT WITH RUPEE & WAILING SOUL
 S
DESCRIPTION:\n\nCome join us as we celebrate our 6th Annual Hi Caribbe
 an In White Event featuring Caribbean Music, Dancing,Food and Special 
 Performances from Soca Artist Rupee, Reggae Artist Wailing Souls and S
 istas Wit Style.\n\nAll guest are required to wear white attire and th
 e event will be hosted by NBA` Player Adonal Foyle and his Celebrity f
 riends.\n\nFor more information visit https://trueskool.com/events/8-a
 nnual-hi-caribbean-in-white
DTSTART;TZID=America/Los_Angeles:20090919T150000
DTEND;TZID=America/Los_Angeles:20090919T210000
CATEGORIES:caribbean, and, reggae
LOCATION:DUNSMUIR PAVILION & GARDENS
WEBSITE:http://www.jumbiproductions.com
URL:http://www.jumbiproductions.com
CONTACT:510 910-4038
ORGANIZER;CN="Darrin Thurman":https://trueskool.com/profile/DarrinThur
 man
ATTACH;FMTTYPE="image/jpeg":http://storage.ning.com/topology/rest/1.0/
 file/get/2247865748?profile=original
ATTENDEE;ROLE=REQ-PARTICIPANT;PARTSTAT=ACCEPTED;RSVP=TRUE;CN="Darrin T
 hurman":https://trueskool.com/profile/DarrinThurman
END:VEVENT
END:VCALENDAR
