BEGIN:VCALENDAR
PRODID:NingEventWidget-v1
VERSION:2.0
METHOD:PUBLISH
BEGIN:VTIMEZONE
TZID:America/Los_Angeles
X-LIC-LOCATION:America/Los_Angeles
BEGIN:DAYLIGHT
TZOFFSETFROM:-0800
TZOFFSETTO:-0700
TZNAME:PDT
DTSTART:19700308T020000
RRULE:FREQ=YEARLY;BYMONTH=3;BYDAY=2SU
END:DAYLIGHT
BEGIN:STANDARD
TZOFFSETFROM:-0700
TZOFFSETTO:-0800
TZNAME:PST
DTSTART:19701101T020000
RRULE:FREQ=YEARLY;BYMONTH=11;BYDAY=1SU
END:STANDARD
END:VTIMEZONE
BEGIN:VEVENT
UID:1464587:Event:34922
DTSTAMP:20260423T210008Z
SUMMARY:7th Annual Celebration Bon Voyage Julie Leadbetter
DESCRIPTION:In The Dark Room,\nMNRC Presents:\n7th Anniversary Celebra
 tion\nBon Voyage\nJulie Leadbetter\n\n7pm - 10pm\nFito Reinoso\nComedi
 ans\nDouble Dutch\nSilent Auction\nHot Fashion Sale\n\n10pm - 2am\nSon
 ny Smith\nPale Hoarse\nDJ Primo\n\nAll proceeds benefit the Mission Ne
 ighborhood Resource Center and the Ladies Night Collaborative, neiborh
 ood drop=in programs serving homeless men and women in the Mission Dis
 trict.\n\n\nPrice Sliding Scale $10-$20\nTime 7pm-2am\nMusic ...\n\nFo
 r more information visit https://trueskool.com/events/7th-annual-celeb
 ration-bon
DTSTART;TZID=America/Los_Angeles:20090701T190000
DTEND;TZID=America/Los_Angeles:20090702T020000
CATEGORIES:hip, hop, house
LOCATION:Club Six, San Francisco, CA
WEBSITE:http://www.clubsix1.com
URL:http://www.clubsix1.com
CONTACT:415-531-6593
ORGANIZER:Angel
ATTACH;FMTTYPE="image/jpeg":http://storage.ning.com/topology/rest/1.0/
 file/get/2247857984?profile=original
ATTENDEE;ROLE=REQ-PARTICIPANT;PARTSTAT=ACCEPTED;RSVP=TRUE;CN=Cecily:ht
 tps://trueskool.com/profile/Cecily
END:VEVENT
END:VCALENDAR
