BEGIN:VCALENDAR
PRODID:NingEventWidget-v1
VERSION:2.0
METHOD:PUBLISH
BEGIN:VTIMEZONE
TZID:America/Los_Angeles
X-LIC-LOCATION:America/Los_Angeles
BEGIN:DAYLIGHT
TZOFFSETFROM:-0800
TZOFFSETTO:-0700
TZNAME:PDT
DTSTART:19700308T020000
RRULE:FREQ=YEARLY;BYMONTH=3;BYDAY=2SU
END:DAYLIGHT
BEGIN:STANDARD
TZOFFSETFROM:-0700
TZOFFSETTO:-0800
TZNAME:PST
DTSTART:19701101T020000
RRULE:FREQ=YEARLY;BYMONTH=11;BYDAY=1SU
END:STANDARD
END:VTIMEZONE
BEGIN:VEVENT
UID:1464587:Event:33398
DTSTAMP:20260421T094713Z
SUMMARY:70s Dance Party feat. The Dramatics \"Live in Concert\"
DESCRIPTION:\nOld City SF & KBLX present\n70s Dance Party\nFeaturing:\
 nThe Dramatics \"Live in Concert\"\n- The Dramatics will be signing au
 tographs & taking pictures with fans after the show.\n- Prizes for Bes
 t 70s Costume and Best 70s Dancers\n\n@ Roccapulco, 3140 Mission St. (
 near Cesar Chavez), SF\nDoors open @ 6:30pm, Show starts @ 7:30pm\n$40
  advance\nTix & Info: http://www.oldcitysf.com\nInfo Line: 415-305-164
 3\n\n\n\nFor more information visit https://trueskool.com/events/70s-d
 ance-party-feat-the
DTSTART;TZID=America/Los_Angeles:20090604T183000
DTEND;TZID=America/Los_Angeles:20090605T193000
CATEGORIES:soul
LOCATION:Roccapulco, San Francisco, CA
WEBSITE:http://www.oldcitysf.com
URL:http://www.oldcitysf.com
CONTACT:
ORGANIZER:Old City SF & KBLX
ATTACH;FMTTYPE="image/jpeg":http://storage.ning.com/topology/rest/1.0/
 file/get/2247857376?profile=original
ATTENDEE;ROLE=REQ-PARTICIPANT;PARTSTAT=ACCEPTED;RSVP=TRUE;CN="Ren the 
 Vinyl Archaeologist":https://trueskool.com/profile/xh51jvilojur
END:VEVENT
END:VCALENDAR
