BEGIN:VCALENDAR
PRODID:NingEventWidget-v1
VERSION:2.0
METHOD:PUBLISH
BEGIN:VTIMEZONE
TZID:America/Los_Angeles
X-LIC-LOCATION:America/Los_Angeles
BEGIN:DAYLIGHT
TZOFFSETFROM:-0800
TZOFFSETTO:-0700
TZNAME:PDT
DTSTART:19700308T020000
RRULE:FREQ=YEARLY;BYMONTH=3;BYDAY=2SU
END:DAYLIGHT
BEGIN:STANDARD
TZOFFSETFROM:-0700
TZOFFSETTO:-0800
TZNAME:PST
DTSTART:19701101T020000
RRULE:FREQ=YEARLY;BYMONTH=11;BYDAY=1SU
END:STANDARD
END:VTIMEZONE
BEGIN:VEVENT
UID:1464587:Event:32695
DTSTAMP:20260420T180928Z
SUMMARY:5TH ANNUAL CARNIVAL FETE
DESCRIPTION:\nPresented by Angel Magik, Bayonics & Loco Bloco\n\n20% o
 f All Proceeds Go To The Mission Neighborhood Center\n\n**Blue Angel O
 pen Vodka Bar from 7-8pm**\n\n**2 for 1 Drinks from 8-10pm**\n\n---\n\
 n3 ROOMS OF CARNIVAL & CULTURE!!\n7pm till 4am!!\n\nROOM 1 - Hosted By
  Loco Bloco:\nLatin, Dub Step, Afro-Brazilian, Reggae & Soca\n- BAYONI
 CS\n- NATIVE ELEMENTS\n- J BOOGIE'S DUBTRONIC SCIENCE\n- LOS RAKAS\n- 
 LOCO BLOCO\n- DJ SANTERO\n- DJ WALT DIGGZ\n- DJ LEYDIS\n- JONNY MACK\n
 \nROOM 2 - Hosted By Segue:\nHip Hop, Club Hits & 80's\n- APOLLO\n- D 
 SHARP\n- REN THE VINYL ARCHAEOLOGIST (True Skool)\n- YOUNG FYAH\n\nROO
 M 3 - Hosted By Dee Cee's Soul Shakedown\nReggae-Dancehall, Soca & Roo
 ts\n- JAH WARRIOR SHELTER\n(DJ JAH YZER, IRIE DOLE & I-VIER)\n- DJ SER
 GE\n- DJ RELIC\n- STEPWISE\n- DJ GREEN-B\n- BROKEN SILENCE\n\n-----\n\
 n$10 TICKETS AVAILABLE AT WWW.GOING.COM/CARNIVALFETE09\n\nFor more inf
 ormation visit https://trueskool.com/events/5th-annual-carnival-fete
DTSTART;TZID=America/Los_Angeles:20090524T190000
DTEND;TZID=America/Los_Angeles:20090525T020000
CATEGORIES:dancehall, reggae, salsa, latin, hip, hop, soca, afro, root
 s, club, hits, brazilian
LOCATION:Club Six, San Francisco, CA
WEBSITE:http://www.going.com/carnivalfete09
URL:http://www.going.com/carnivalfete09
CONTACT:
ORGANIZER:Angel Magik, Bayonics & Loco Bloco
ATTACH;FMTTYPE="image/jpeg":http://storage.ning.com/topology/rest/1.0/
 file/get/2068657159?profile=original
ATTENDEE;ROLE=REQ-PARTICIPANT;PARTSTAT=ACCEPTED;RSVP=TRUE;CN="Ren the 
 Vinyl Archaeologist":https://trueskool.com/profile/xh51jvilojur
END:VEVENT
END:VCALENDAR
