BEGIN:VCALENDAR
PRODID:NingEventWidget-v1
VERSION:2.0
METHOD:PUBLISH
BEGIN:VTIMEZONE
TZID:America/Los_Angeles
X-LIC-LOCATION:America/Los_Angeles
BEGIN:DAYLIGHT
TZOFFSETFROM:-0800
TZOFFSETTO:-0700
TZNAME:PDT
DTSTART:19700308T020000
RRULE:FREQ=YEARLY;BYMONTH=3;BYDAY=2SU
END:DAYLIGHT
BEGIN:STANDARD
TZOFFSETFROM:-0700
TZOFFSETTO:-0800
TZNAME:PST
DTSTART:19701101T020000
RRULE:FREQ=YEARLY;BYMONTH=11;BYDAY=1SU
END:STANDARD
END:VTIMEZONE
BEGIN:VEVENT
UID:1464587:Event:661603
DTSTAMP:20260422T093633Z
SUMMARY:4TH FRIDAYS W SEAN G & Z-MO
DESCRIPTION:DJs Sean G and DJ Z-Mo are back for the new 4th Fridays in
 side John Colins. Join them as they take you on a musical journey thro
 ugh Hip-Hop, R&B, Rap and House from a San Francisco native perspectiv
 e.\n\nFor more information visit https://trueskool.com/events/4th-frid
 ays-w-sean-g-z-mo
DTSTART;TZID=America/Los_Angeles:20170428T220000
DTEND;TZID=America/Los_Angeles:20170429T020000
CATEGORIES:"san francisco", soma, "financial district"
LOCATION:JohnColins, San Francisco, CA
WEBSITE:http://johncolins.com/events/4thfridays/
URL:http://johncolins.com/events/4thfridays/
CONTACT:
ORGANIZER;CN=JohnColins:https://trueskool.com/profile/JohnColins27
ATTACH;FMTTYPE="image/jpeg":http://storage.ning.com/topology/rest/1.0/
 file/get/2247996090?profile=original
ATTENDEE;ROLE=REQ-PARTICIPANT;PARTSTAT=ACCEPTED;RSVP=TRUE;CN=JohnColin
 s:https://trueskool.com/profile/JohnColins27
END:VEVENT
END:VCALENDAR
