BEGIN:VCALENDAR
PRODID:NingEventWidget-v1
VERSION:2.0
METHOD:PUBLISH
BEGIN:VTIMEZONE
TZID:America/Los_Angeles
X-LIC-LOCATION:America/Los_Angeles
BEGIN:DAYLIGHT
TZOFFSETFROM:-0800
TZOFFSETTO:-0700
TZNAME:PDT
DTSTART:19700308T020000
RRULE:FREQ=YEARLY;BYMONTH=3;BYDAY=2SU
END:DAYLIGHT
BEGIN:STANDARD
TZOFFSETFROM:-0700
TZOFFSETTO:-0800
TZNAME:PST
DTSTART:19701101T020000
RRULE:FREQ=YEARLY;BYMONTH=11;BYDAY=1SU
END:STANDARD
END:VTIMEZONE
BEGIN:VEVENT
UID:1464587:Event:680129
DTSTAMP:20260421T095048Z
SUMMARY:42nd Street Moon's DAMES AT SEA
DESCRIPTION:HILARIOUS 1930s PASTICHE MUSICAL\n \n42nd Street Moon pre
 sents\nDAMES AT SEA\nBook and Lyrics by George Haimsohn and Robin Mill
 er\nMusic by Jim Wise\nDirected and Choreographed by Nicole Helfer\nMu
 sic Direction by Dave Dobrusky\nNovember 28 - December 16, 2018\nTicke
 ts are $30 - $75 and may be purchased here: http://42ndstmoon.org/dame
 satsea/\n\"A technicolor, tap dance-filled tribute to the movie musica
 ls of the 1930s...delightful.\"\n- NBC New York \nIt’s 42ND STREET 
 meets ANYTHING GOES meets Busby Berkeley in Hollywood in this gem of a
  show which opened Off-Broadway in 1968 and helped launch the career o
 f Bernadette Peters. Sweet, innocent Ruby arrives in New York with big
  dreams and lands in the chorus of a new show — but the theatre is a
 bout to be torn down! Can sailor-turned-songwriter Dick find a new ven
 ue for the show while juggling temperamental diva Mona, frazzled produ
 cer Hennesy and starry-eyed ingénue Ruby? Full of vim, verve, and tap
 -dancing, DAMES AT SEA will charm its way into your heart.\nFacebook E
 vent: https://www.facebook.com/events/174681320139727/\nFacebook: http
 s://www.facebook.com/42ndStreetMoon\nTwitter: https://twitter.com/42nd
 StMoon\n\nFor more information, call 415-255-8207 or email tickets@42n
 dstmoon.org.\nThe Gateway Theatre215 Jackson St.San Francisco, CA 9411
 1\n\n\nFor more information visit https://trueskool.com/events/42nd-st
 reet-moon-s-dames-at-sea
DTSTART;TZID=America/Los_Angeles:20181128T190000
DTEND;TZID=America/Los_Angeles:20181216T150000
CATEGORIES:san, francisco, bay, area
LOCATION:The Gateway Theatre, San Francisco, CA
WEBSITE:http://42ndstmoon.org/damesatsea/
URL:http://42ndstmoon.org/damesatsea/
CONTACT:415-255-8207
ORGANIZER:42nd Street Moon
ATTACH;FMTTYPE="image/jpeg":
ATTENDEE;ROLE=REQ-PARTICIPANT;PARTSTAT=ACCEPTED;RSVP=TRUE;CN="Jonathan
  White":https://trueskool.com/profile/JonathanWhite
END:VEVENT
END:VCALENDAR
