BEGIN:VCALENDAR
PRODID:NingEventWidget-v1
VERSION:2.0
METHOD:PUBLISH
BEGIN:VTIMEZONE
TZID:America/Los_Angeles
X-LIC-LOCATION:America/Los_Angeles
BEGIN:DAYLIGHT
TZOFFSETFROM:-0800
TZOFFSETTO:-0700
TZNAME:PDT
DTSTART:19700308T020000
RRULE:FREQ=YEARLY;BYMONTH=3;BYDAY=2SU
END:DAYLIGHT
BEGIN:STANDARD
TZOFFSETFROM:-0700
TZOFFSETTO:-0800
TZNAME:PST
DTSTART:19701101T020000
RRULE:FREQ=YEARLY;BYMONTH=11;BYDAY=1SU
END:STANDARD
END:VTIMEZONE
BEGIN:VEVENT
UID:1464587:Event:32083
DTSTAMP:20260421T185013Z
SUMMARY:35,000 FEET W/ GARTH TRINIDAD
DESCRIPTION:\nThinkbeat Radio & C.A.K.E Presents\n35,000 Feet\nEvery 2
 nd Friday\n\nThis Friday May 8th\nflying 35,000 Feet from LA\nDJ GARTH
  TRINIDAD (KCRW Los Angeles)\n\nalong with resident dj's:\nHaylow (Dis
 tortion2Static) &\nWonway Posibul (Thinkbeat Radio)\n\ngiveaways from 
 D-Structure SF\n\n@ Azul\n1 Tillman Place\nDowntown San Francisco, CA\
 n10pm, 21+\n$5 before 11pm w/ RSVP\nRSVP @ www.going.com/35000feet509\
 n\nFor more information visit https://trueskool.com/events/35000-feet-
 w-garth-trinidad
DTSTART;TZID=America/Los_Angeles:20090508T220000
DTEND;TZID=America/Los_Angeles:20090509T020000
CATEGORIES:hiphop, reggae, funk, soul, house, world
LOCATION:Azul, San Francisco, CA
WEBSITE:http://www.azul-sf.com
URL:http://www.azul-sf.com
CONTACT:
ORGANIZER;CN="Wonway Posibul":https://trueskool.com/profile/WonwayPosi
 bul
ATTACH;FMTTYPE="image/jpeg":http://storage.ning.com/topology/rest/1.0/
 file/get/2247856540?profile=original
ATTENDEE;ROLE=REQ-PARTICIPANT;PARTSTAT=ACCEPTED;RSVP=TRUE;CN="Wonway P
 osibul":https://trueskool.com/profile/WonwayPosibul
END:VEVENT
END:VCALENDAR
