BEGIN:VCALENDAR
PRODID:NingEventWidget-v1
VERSION:2.0
METHOD:PUBLISH
BEGIN:VTIMEZONE
TZID:America/Los_Angeles
X-LIC-LOCATION:America/Los_Angeles
BEGIN:DAYLIGHT
TZOFFSETFROM:-0800
TZOFFSETTO:-0700
TZNAME:PDT
DTSTART:19700308T020000
RRULE:FREQ=YEARLY;BYMONTH=3;BYDAY=2SU
END:DAYLIGHT
BEGIN:STANDARD
TZOFFSETFROM:-0700
TZOFFSETTO:-0800
TZNAME:PST
DTSTART:19701101T020000
RRULE:FREQ=YEARLY;BYMONTH=11;BYDAY=1SU
END:STANDARD
END:VTIMEZONE
BEGIN:VEVENT
UID:1464587:Event:40802
DTSTAMP:20260422T074655Z
SUMMARY:2nd Annual Party With a Purpose
DESCRIPTION:Artists for Charity and Party with a Purpose SF invite the
  Bay Area community to the 2nd annual Party With a Purpose benefit to 
 support the work of the Artists for Charity Children’s Home. Artists
  for Charity has willingly accepted the responsibility of raising HIV 
 positive orphans who are ineligible for any other NGO program due to a
 ge, health status, and past physical or sexual abuse. The AFC Children
 ’s Home, located in Addis Ababa, Ethiopia, is home for 16 children a
 nd provides for all the children’s personal needs and school and med
 ical costs.\n\nThe 2nd Annual Party with a Purpose will be held on Sep
 tember 17th at 111 Minna Gallery. The event opens at 5pm with a silent
  auction. Auction items will range from items donated by local Bay Are
 a restaurants, theaters, artists and designers to artwork created by t
 he children of the Home. Live entertainment by Los Angeles acoustic du
 o Cherri Mob and DJ Sonny Phono. Appetizers will be provided.\n\nParty
  with us afterward with DJ Fitsum, who’s mix of Hip Hop, Reggae, R&B
 , Soca, Clibso, Zuck, and Habesha has gotten the dance floor moving th
 rough out California, Denver, Chicago, New York, Boston Philadelphia, 
 Washington DC and Dallas. Then get down with Bay Area’s own Hot Pock
 et, consisting of the rhythms sections and lead vocals of Bayonics. Ho
 t Pocket is sure to get the crowd hopping, covering classic hip hop, s
 oul, and funk ranging from Snoop Dog, to James Brown, to Luther Vandro
 ss. Finally, DJs Keep ‘Em Running and Dion Decibels will keep the pa
 rty moving all night long.\n\nGo to www.partywithapurposesf.org for mo
 re information.\n\n$10 suggested donation, no one turned away for lack
  of funds. All proceeds directly benefit the Artists for Charity Child
 ren's Home.\n\nFor more information visit https://trueskool.com/events
 /2nd-annual-party-with-a
DTSTART;TZID=America/Los_Angeles:20090917T170000
DTEND;TZID=America/Los_Angeles:20090918T020000
CATEGORIES:benefit, fundraider, auction, hip, hop, funk, soul, reggae,
  ethiopian
LOCATION:111 Minna Gallery, San Francisco, CA
WEBSITE:http://www.111minnagallery.com
URL:http://www.111minnagallery.com
CONTACT:
ORGANIZER:Artists for Charity and Party with a Purpose
ATTACH;FMTTYPE="image/jpeg":
ATTENDEE;ROLE=REQ-PARTICIPANT;PARTSTAT=ACCEPTED;RSVP=TRUE;CN=amandasmi
 lestoherself:https://trueskool.com/profile/amandasmilestoherself
END:VEVENT
END:VCALENDAR
