BEGIN:VCALENDAR
PRODID:NingEventWidget-v1
VERSION:2.0
METHOD:PUBLISH
BEGIN:VTIMEZONE
TZID:America/Los_Angeles
X-LIC-LOCATION:America/Los_Angeles
BEGIN:DAYLIGHT
TZOFFSETFROM:-0800
TZOFFSETTO:-0700
TZNAME:PDT
DTSTART:19700308T020000
RRULE:FREQ=YEARLY;BYMONTH=3;BYDAY=2SU
END:DAYLIGHT
BEGIN:STANDARD
TZOFFSETFROM:-0700
TZOFFSETTO:-0800
TZNAME:PST
DTSTART:19701101T020000
RRULE:FREQ=YEARLY;BYMONTH=11;BYDAY=1SU
END:STANDARD
END:VTIMEZONE
BEGIN:VEVENT
UID:1464587:Event:35801
DTSTAMP:20260421T033051Z
SUMMARY:2nd Annual Lakefest 09
DESCRIPTION:Oakland Events Presents\n2nd Annual LAKEFEST 09\n\nLAKEFES
 T 09, is a two day street festival featuring Arts & Crafts booths, a l
 ive music stage featuring well known performers, Gourmet Food Booths, 
 Lakeshore Merchant Sidewalk Sale, kid's fun zone, art, street performe
 rs, Skate Park, a Green Living Expo and the popular Grand Lake Farmers
  Market which draws thousands to the area (on Saturday ONLY).\n\nAbout
  the Lakeshore Avenue Business District\nThe Lakeshore Ave shopping di
 strict is nestled between Piedmont,\nGlenwood, Montclair, and Downtown
  Oakland. It is an extremely diverse\nshopping area that appeals to al
 l walks of life. The Grand Lake\nFarmer’s Market draws thousands int
 o the district every weekend.\nBusinesses on Lakeshore Ave include: Ba
 nk of America, Washington\nMutual, Wachovia, AT&T, Lakeshore Natural F
 oods store, Trader Joe’s,\nWalgreens, Peet’s Coffee, Starbucks, as
  well as many other food\nmerchants, fine restaurants, art and gift sh
 ops and clothing stores.\n\nAbout Oakland Events, LLC\nLAKEFEST 09 is 
 proudly produced by Oakland Events, LLC. Our mission\nis to help the O
 akland economy grow and prosper locally. Through events\nlike this, we
  wish to encourage interaction, networking, sharing, and\nteamwork amo
 ngst both the people and the businesses of Oakland. Our\nvision of a u
 nified, healthy city is what inspires and guides us.\nTogether, with y
 our help, we can strive to achieve this vision and\ncontinue to produc
 e FREE, POSITIVE, FUN EVENTS such as\nLAKEFEST 09. Your participation 
 is greatly appreciated, not just\nby Oakland Events, but by the heart 
 and soul of Oakland.\n\nLAKEFEST 09 links:\n\nOfficial LakeFest Websit
 e\nhttp://oaklandlakefest.com/\nFollow Us On Twitter\nhttp://twitter.c
 om/oaklandevents\nJoin Our Facebook Fan Page\nhttp://www.facebook.com/
 pages/Oakland-CA/Oakland-Events-LLC/80492708129\n\nFor more informatio
 n visit https://trueskool.com/events/2nd-annual-lakefest-09
DTSTART;TZID=America/Los_Angeles:20090801T100000
DTEND;TZID=America/Los_Angeles:20090802T180000
CATEGORIES:festival
LOCATION:Lakeshore Avenue Business District, Oakland, CA
WEBSITE:http://www.oaklandlakefest.com/map.html
URL:http://www.oaklandlakefest.com/map.html
CONTACT:
ORGANIZER;CN="Oakland Events":https://trueskool.com/profile/OaklandEve
 nts
ATTACH;FMTTYPE="image/jpeg":http://storage.ning.com/topology/rest/1.0/
 file/get/2247864440?profile=original
ATTENDEE;ROLE=REQ-PARTICIPANT;PARTSTAT=ACCEPTED;RSVP=TRUE;CN="Oakland 
 Events":https://trueskool.com/profile/OaklandEvents
END:VEVENT
END:VCALENDAR
