BEGIN:VCALENDAR
PRODID:NingEventWidget-v1
VERSION:2.0
METHOD:PUBLISH
BEGIN:VTIMEZONE
TZID:America/Los_Angeles
X-LIC-LOCATION:America/Los_Angeles
BEGIN:DAYLIGHT
TZOFFSETFROM:-0800
TZOFFSETTO:-0700
TZNAME:PDT
DTSTART:19700308T020000
RRULE:FREQ=YEARLY;BYMONTH=3;BYDAY=2SU
END:DAYLIGHT
BEGIN:STANDARD
TZOFFSETFROM:-0700
TZOFFSETTO:-0800
TZNAME:PST
DTSTART:19701101T020000
RRULE:FREQ=YEARLY;BYMONTH=11;BYDAY=1SU
END:STANDARD
END:VTIMEZONE
BEGIN:VEVENT
UID:1464587:Event:38859
DTSTAMP:20260422T154142Z
SUMMARY:2nd ANNUAL 70's & 80's PARTY HOSTED BY ADONAL FOYLE
DESCRIPTION:COME AND ENJOY A FLASHBACK TO THE 70's AND 80's EVENT HOST
 ED BY NBA PLAYER ADONAL FOYLE AND CELEBRITY GUEST.\n\nDJ HENROC WILL B
 E SPINNING CLASSIC 70's & 80's JAMS ALONG WITH TODAYS HOTTEST R&B, HIP
  HOP & REGGAE.\n\nTHE EVENING INCLUDES: LIP SYNC PERFORMANCES FEATURIN
 G THE JACKSONS, THE EMOTIONS, MORRIS DAY AND THE TIME AND OTHER SURPRI
 SE PERFORMANCES AND MUSIC VIDEO DISPLAY SO COME DRESSED TO IMPRESS IN 
 YOUR 70'S OR 80'S OUTFITS.\n\nFor more information visit https://trues
 kool.com/events/2nd-annual-70s-80s-party
DTSTART;TZID=America/Los_Angeles:20090918T210000
DTEND;TZID=America/Los_Angeles:20090919T020000
CATEGORIES:old, school
LOCATION:AIR LOUNGE & BAR
WEBSITE:
URL:
CONTACT:510 910-4038
ORGANIZER;CN="Darrin Thurman":https://trueskool.com/profile/DarrinThur
 man
ATTACH;FMTTYPE="image/jpeg":http://storage.ning.com/topology/rest/1.0/
 file/get/2247859941?profile=original
ATTENDEE;ROLE=REQ-PARTICIPANT;PARTSTAT=ACCEPTED;RSVP=TRUE;CN="Darrin T
 hurman":https://trueskool.com/profile/DarrinThurman
END:VEVENT
END:VCALENDAR
