BEGIN:VCALENDAR
PRODID:NingEventWidget-v1
VERSION:2.0
METHOD:PUBLISH
BEGIN:VTIMEZONE
TZID:America/Los_Angeles
X-LIC-LOCATION:America/Los_Angeles
BEGIN:DAYLIGHT
TZOFFSETFROM:-0800
TZOFFSETTO:-0700
TZNAME:PDT
DTSTART:19700308T020000
RRULE:FREQ=YEARLY;BYMONTH=3;BYDAY=2SU
END:DAYLIGHT
BEGIN:STANDARD
TZOFFSETFROM:-0700
TZOFFSETTO:-0800
TZNAME:PST
DTSTART:19701101T020000
RRULE:FREQ=YEARLY;BYMONTH=11;BYDAY=1SU
END:STANDARD
END:VTIMEZONE
BEGIN:VEVENT
UID:1464587:Event:661693
DTSTAMP:20260422T152755Z
SUMMARY:2017 DMC BAY AREA DJ Battle
DESCRIPTION: Friday, April 21st, 2017\n2017 DMC BAY AREA DJ Battle \np
 resented by Rane and DJ Cue\nFeaturing DMC US Champ:  DJ TRAPS partyro
 cking & showcasing!\nHost: BAS ONE\nJudges: DJ Cue, Pos Red, Vin Roc, 
 Snayk Eyez, Mista B, Teeko\nat The Uptown Nightclub 1928 Telegraph Ave
  (between 19th & 20th) \nOakland CA 94610\n21+. Doors: 8pm. Battle: 9p
 m\n$15 adv. $20 day of.\n>> BUY TICKETS\n*No filming is permitted  www
 .dmcdjchamps.com\nDJS MUST REGISTER TO BATTLE by answering each of the
  following questions and send them to DMC USA’s Christie Z at usa@dm
 cworld.com BEFORE April 19th, 2017 11:59pm EST. No walk ups. DJs can e
 nter as many regional DJ battles as they like.\n\nFor more information
  visit https://trueskool.com/events/2017-dmc-bay-area-dj-battle
DTSTART;TZID=America/Los_Angeles:20170421T200000
DTEND;TZID=America/Los_Angeles:20170421T230000
CATEGORIES:"bay area", oakland
LOCATION:The Uptown Nightclub, Oakland
WEBSITE:https://www.eventbrite.com/e/2017-dmc-bay-area-dj-battle-ticke
 ts-33576058896
URL:https://www.eventbrite.com/e/2017-dmc-bay-area-dj-battle-tickets-3
 3576058896
CONTACT:
ORGANIZER:Rane and DJ Cue
ATTACH;FMTTYPE="image/jpeg":http://storage.ning.com/topology/rest/1.0/
 file/get/2247995513?profile=original
ATTENDEE;ROLE=REQ-PARTICIPANT;PARTSTAT=ACCEPTED;RSVP=TRUE;CN="Ren the 
 Vinyl Archaeologist":https://trueskool.com/profile/xh51jvilojur
END:VEVENT
END:VCALENDAR
