BEGIN:VCALENDAR
PRODID:NingEventWidget-v1
VERSION:2.0
METHOD:PUBLISH
BEGIN:VTIMEZONE
TZID:America/Los_Angeles
X-LIC-LOCATION:America/Los_Angeles
BEGIN:DAYLIGHT
TZOFFSETFROM:-0800
TZOFFSETTO:-0700
TZNAME:PDT
DTSTART:19700308T020000
RRULE:FREQ=YEARLY;BYMONTH=3;BYDAY=2SU
END:DAYLIGHT
BEGIN:STANDARD
TZOFFSETFROM:-0700
TZOFFSETTO:-0800
TZNAME:PST
DTSTART:19701101T020000
RRULE:FREQ=YEARLY;BYMONTH=11;BYDAY=1SU
END:STANDARD
END:VTIMEZONE
BEGIN:VEVENT
UID:1464587:Event:32000
DTSTAMP:20260421T085353Z
SUMMARY:1st Ever National Graffiti Battle Harlem May9 Free!
DESCRIPTION:Riverside Theatre, The Living Word Project, MAPP Internati
 onal, Mighty4 and Samurai Graphix present:\nThe Estria Invitational Gr
 affiti Battle &\nMighty 4 Break Battle hosted by Paulskeee\nat the Lif
 e Is Living Festival\nhosted by Marc Bamuthi Joseph\n\nRiverbank State
  Park\non 145th & Riverside along Hudson River\n\nSaturday May 9, Time
 : TBD\nFree event, open to all!\n\n16 of the nation's most talented ar
 tists will compete for the crown in a live, one-day painting competiti
 on. Winner will be flown to Oakland in October to compete in the Final
 s, plus receive $500 cash.\n\n\n\nJudges (confirmed to date):\n\n1. Ta
 tu Xmen\n2. Wane One COD\n3. Mare 129\n4. Doc TC5\n5. Estria\n\n\n\nCo
 ntestants (confirmed to date):\n\n1. Bounce, TYS, winner of last 2 yrs
 .\n2. Keo FC\n3. Dezo TC5\n4. Vik TD4\n5. Vogue TDK\n6. Cern One YMI\n
 7. Demer Wallnuts\n8. Queen Andrea AOK\n9. Cekis\n10. Aero Lords\n11. 
 Sienide\n12. Lucha ESP\n13. Erotica 67\n14. Doves TC5\n15. Sade TCM\n1
 6. Bullet DF\n\n\n\nFeaturing:\n\n• Live performances by Kurtis Blow
  & Hip Hop Choir, Brave New Voices Green Team, Riverside Inspirational
  Choir, Grace Kelly Jazz Quartet\n• Mighty4 Break Battle hosted by P
 auskeee (with cash prizes)\n• JamesTOP Blackbook Battles, one for 18
  & under, another for over 18\n• Learn about Bamboo Bicycles Demonst
 ration, Riverside Youth Greenhouse Project, Harlem Green Mappers, The 
 Earth Institute, WE ACT\n\n \n\nFor up-to-the-minute updates, follow 
 Estria on www.twitter.com/estria\n\nFor more information visit https:/
 /trueskool.com/events/1st-ever-national-graffiti
DTSTART;TZID=America/Los_Angeles:20090505T180000
DTEND;TZID=America/Los_Angeles:20090505T190000
CATEGORIES:hip, hop, gospel
LOCATION:Riverbank Park, Harlem, New York
WEBSITE:http://www.estriabattle.com
URL:http://www.estriabattle.com
CONTACT:
ORGANIZER;CN="Estria Miyashiro":https://trueskool.com/profile/EstriaMi
 yashiro
ATTACH;FMTTYPE="image/jpeg":http://storage.ning.com/topology/rest/1.0/
 file/get/2247856736?profile=original
ATTENDEE;ROLE=REQ-PARTICIPANT;PARTSTAT=ACCEPTED;RSVP=TRUE;CN="Estria M
 iyashiro":https://trueskool.com/profile/EstriaMiyashiro
END:VEVENT
END:VCALENDAR
