BEGIN:VCALENDAR
PRODID:NingEventWidget-v1
VERSION:2.0
METHOD:PUBLISH
BEGIN:VTIMEZONE
TZID:America/Los_Angeles
X-LIC-LOCATION:America/Los_Angeles
BEGIN:DAYLIGHT
TZOFFSETFROM:-0800
TZOFFSETTO:-0700
TZNAME:PDT
DTSTART:19700308T020000
RRULE:FREQ=YEARLY;BYMONTH=3;BYDAY=2SU
END:DAYLIGHT
BEGIN:STANDARD
TZOFFSETFROM:-0700
TZOFFSETTO:-0800
TZNAME:PST
DTSTART:19701101T020000
RRULE:FREQ=YEARLY;BYMONTH=11;BYDAY=1SU
END:STANDARD
END:VTIMEZONE
BEGIN:VEVENT
UID:1464587:Event:286318
DTSTAMP:20260420T163845Z
SUMMARY:1st Annual | House of Rap | Toy Drive
DESCRIPTION:BENEFITING THE CITY OF OAKLAND MAYOR'S OFFICE TOY DRIVEFNM
  TOY DRIVEDECEMBER 22, 20139PM - 1:30AMPERFORMANCE BY: FNM | WILLIE JO
 E | ERK THA JERK | TRAXAMILLION | NIO THE GIFT | RAYVEN JUSTICE | CITY
  SHAWN | OUTRAGEOUS KARINA | 1OAK | YMTK | SHONUFF | MARKESE | w/ DJ A
 MBIDEKSTRESHOSTED BY: KASH KONCEPTS | EXECUTIVE LEX | SHAY DIDDY | AHM
 ADCOVER CHARGE $10 | FREE w/ A NEW UNWRAPPED GIFT\n\nFor more informat
 ion visit https://trueskool.com/events/1st-annual-house-of-rap-toy-dri
 ve
DTSTART;TZID=America/Los_Angeles:20131222T210000
DTEND;TZID=America/Los_Angeles:20131223T013000
CATEGORIES:lukas, city, of, oakland, toy, drive, house, rap, kash, kon
 cepts
LOCATION:Lukas Taproom Lounge
WEBSITE:http://$10 or Free w/ Unwrapped Gift
URL:http://$10 or Free w/ Unwrapped Gift
CONTACT:
ORGANIZER:Kash Koncepts
ATTACH;FMTTYPE="image/jpeg":http://storage.ning.com/topology/rest/1.0/
 file/get/2247955044?profile=original
ATTENDEE;ROLE=REQ-PARTICIPANT;PARTSTAT=ACCEPTED;RSVP=TRUE;CN=Kash:http
 s://trueskool.com/profile/Kash
END:VEVENT
END:VCALENDAR
