BEGIN:VCALENDAR
PRODID:NingEventWidget-v1
VERSION:2.0
METHOD:PUBLISH
BEGIN:VTIMEZONE
TZID:America/Los_Angeles
X-LIC-LOCATION:America/Los_Angeles
BEGIN:DAYLIGHT
TZOFFSETFROM:-0800
TZOFFSETTO:-0700
TZNAME:PDT
DTSTART:19700308T020000
RRULE:FREQ=YEARLY;BYMONTH=3;BYDAY=2SU
END:DAYLIGHT
BEGIN:STANDARD
TZOFFSETFROM:-0700
TZOFFSETTO:-0800
TZNAME:PST
DTSTART:19701101T020000
RRULE:FREQ=YEARLY;BYMONTH=11;BYDAY=1SU
END:STANDARD
END:VTIMEZONE
BEGIN:VEVENT
UID:1464587:Event:42386
DTSTAMP:20260421T053657Z
SUMMARY:1st Annual Best of the Bay Reggae Festival
DESCRIPTION:First Annual Best of the Bay Reggae Festival\nOn Saturday,
  November 7, Doublelion presents, in association with HASO-LIVE, the F
 irst Annual \"Best of the Bay\" Reggae Festival! This all-day music ex
 travaganza features the best bands around, plus DJs and radio personal
 ities from throughout California.\nEnjoy one of a kind arts and crafts
 , delicious food plus purchase cool merchandise items from visiting ve
 ndors.\n\nProceeds from the show will benefit the Omega Boys and Girls
  Club of Vallejo, helping the children of Vallejo in furthering their 
 education.\n\nDoublelion is committed to excellence in Music, Commmuni
 ty and Peace and bringing the very best to the audience.\n\nFeatured B
 ands In no particular order:\n\n•Little Hero\n•King Hopeton\n•XS
 ample\n•Native Elements\n•Rocker T\n•Luv Fyah\n•Binghi Ghost\n
 •Archaingelle\n•Malika Madremana\nadded to line up direct from Jam
 aica... Madd Anju, Bay areas own Rankin Scroo and First Born and New Y
 orks Feyvva Puckett... After Party.. Ras Digital..\nHost of Djs from I
 rie Fm in Jamaica and Florida.. Bay Areas own Top Djs Irie Dole, I-vie
 r, Beatnock, Lucazade, Honey B, Donetta G, One Trust, Hype and Junglis
 ...\nPre-Sale Tickets 29.99 for park entrance and wrist bands.. Pre-sa
 le parking 5.00.... Tickets sold at the Gate.. 44.99 for entrance, 10.
 00 for wrist bands and parking at gate is 15.00... My advise..GET YOUR
  PRE-SALE TICKETS.... any questions please call H.A.S.O Live at 916-60
 7-6995...\n\nTickets are just $29.99 for park admission and Reggae eve
 nt wristband!\nTo purchase tickets online, please type in the promotio
 nal code REGGAE.\n\nYou can also visit a Dimple Records store location
  in Sacramento, Citrus Heights or Roseville.\n\nOr ask for Andrew when
  you visit Streetlight Records in San Francisco or San Jose or Santa C
 ruz Streetlight 2350 Market Street or call 415-282-8000.\n\nThe $29.99
  ticket price includes both park admission AND a wristband for access 
 to all Reggae event entertainment. For more information on this event,
  please contact Denise at 916-607-6995.\n\nArtists and Fans are coming
  together for a Cause Promoting Peace and Unity and Lending a Helping 
 hand to the Boys and Girls Club that works so hard to keep the kids of
 f the streets. This one particular facility is so strong in academics 
 for the kids but the building is falling apart. There are just no fund
 s. Let Come together and help. One community at a time will make the d
 ifference in all our lives. The top Djs in the bay area will be there 
 spinning throughout the day. Top Reggae Performers from the bay such a
 s, King Hopeton, XSample, Native Elements, Rocker T, Messenjah Selah a
 nd more. Not to mention the Headlining acts of Littler Hero who has Bi
 llboards Number 1 album of 2008, Teflon and guest Djs from Irie Fm all
  coming to you straight from Jamaica.... Hope to see you there One Lov
 e..... Sponsorships, advertising and booth space available.\n\nFor mor
 e information visit https://trueskool.com/events/1st-annual-best-of-th
 e-bay
DTSTART;TZID=America/Los_Angeles:20091107T103000
DTEND;TZID=America/Los_Angeles:20091107T180000
CATEGORIES:reggae
LOCATION:Six Flags Discovery Kingdom Vallejo
WEBSITE:http://www.sixflags.com/discoveryKingdom/footerNav/contact.asp
 x
URL:http://www.sixflags.com/discoveryKingdom/footerNav/contact.aspx
CONTACT:916.607.6995
ORGANIZER;CN=Baylotusflower:https://trueskool.com/profile/Baylotusflow
 er
ATTACH;FMTTYPE="image/jpeg":http://storage.ning.com/topology/rest/1.0/
 file/get/2247869898?profile=original
ATTENDEE;ROLE=REQ-PARTICIPANT;PARTSTAT=ACCEPTED;RSVP=TRUE;CN=Baylotusf
 lower:https://trueskool.com/profile/Baylotusflower
END:VEVENT
END:VCALENDAR
