BEGIN:VCALENDAR
PRODID:NingEventWidget-v1
VERSION:2.0
METHOD:PUBLISH
BEGIN:VTIMEZONE
TZID:America/Los_Angeles
X-LIC-LOCATION:America/Los_Angeles
BEGIN:DAYLIGHT
TZOFFSETFROM:-0800
TZOFFSETTO:-0700
TZNAME:PDT
DTSTART:19700308T020000
RRULE:FREQ=YEARLY;BYMONTH=3;BYDAY=2SU
END:DAYLIGHT
BEGIN:STANDARD
TZOFFSETFROM:-0700
TZOFFSETTO:-0800
TZNAME:PST
DTSTART:19701101T020000
RRULE:FREQ=YEARLY;BYMONTH=11;BYDAY=1SU
END:STANDARD
END:VTIMEZONE
BEGIN:VEVENT
UID:1464587:Event:53476
DTSTAMP:20260421T011004Z
SUMMARY:(18+) Aesop of Living Legends, Venture Capitalists & The New H
 umans. Hosted by The Understudies @ Bottom of The Hill, SF.
DESCRIPTION:Nate & Foss's B-Day Bash!\nA night of dope Hip Hop, all wi
 th live bands!\n\nWith Special Guest: AESOP (from Living Legends)\nw/ 
 The Tenderloins\nCheck out Aesop & the Living Legends crew @ www.llcre
 w.com\nCheck out The Tenderloins @ http://myspace.com/tenderloins\n___
 ____________________________________________________\nVenture Capitali
 sts (Self Ad & Welsed from The Understudies) w/ Live Band\nCheck out V
 enture Capitalists @ www.understudiescrew.com\n_______________________
 _________________________________\nThe New Humans\nhttp://www.myspace.
 com/thenewhumansmusic\n\nHosted by The Understudies\ntwitter.com/theun
 derstudies\n________________________________________________________\n
 \n18+ / $10\n\nFor more information visit https://trueskool.com/events
 /18-aesop-of-living-legends
DTSTART;TZID=America/Los_Angeles:20100428T200000
DTEND;TZID=America/Los_Angeles:20100429T010000
CATEGORIES:hip, hop, live, band, improv, jazz, indie, rock
LOCATION:Bottom of The Hill, San Francisco, CA
WEBSITE:http://www.bottomofthehill.com
URL:http://www.bottomofthehill.com
CONTACT:
ORGANIZER:Study Music
ATTACH;FMTTYPE="image/jpeg":http://storage.ning.com/topology/rest/1.0/
 file/get/2247876640?profile=original
ATTENDEE;ROLE=REQ-PARTICIPANT;PARTSTAT=ACCEPTED;RSVP=TRUE;CN="caramel 
 queen":https://trueskool.com/profile/caramelqueen
ATTENDEE;ROLE=REQ-PARTICIPANT;PARTSTAT=ACCEPTED;RSVP=TRUE;CN=CitizenOf
 TheUnderstudies:https://trueskool.com/profile/CitizenOfTheUnderstudies
END:VEVENT
END:VCALENDAR
