BEGIN:VCALENDAR
PRODID:NingEventWidget-v1
VERSION:2.0
METHOD:PUBLISH
BEGIN:VTIMEZONE
TZID:America/Los_Angeles
X-LIC-LOCATION:America/Los_Angeles
BEGIN:DAYLIGHT
TZOFFSETFROM:-0800
TZOFFSETTO:-0700
TZNAME:PDT
DTSTART:19700308T020000
RRULE:FREQ=YEARLY;BYMONTH=3;BYDAY=2SU
END:DAYLIGHT
BEGIN:STANDARD
TZOFFSETFROM:-0700
TZOFFSETTO:-0800
TZNAME:PST
DTSTART:19701101T020000
RRULE:FREQ=YEARLY;BYMONTH=11;BYDAY=1SU
END:STANDARD
END:VTIMEZONE
BEGIN:VEVENT
UID:1464587:Event:51080
DTSTAMP:20260421T203609Z
SUMMARY:(18+) Aesop (of Living Legends) & The Understudies
DESCRIPTION:- Aesop of the mighty LIVING LEGENDS, fresh off the releas
 e of his latest album \"Living The Dream While Awake\", which boasts c
 ollaborations with Atmosphere, Del The Funky Homosapien, Eligh & Bicas
 so. www.legendarymusic.net - www.weedtrackermusic.com\n\n- The Underst
 udies. In 2009, the 8 member Bay Area crew released 2 crew efforts as 
 well as projects from Venture Capitalists (Welsed & Self Advocate) & C
 itizen. Their latest release is \"CC4: We Out Here!\" www.understudies
 crew.com - www.weedtrackermusic.com\n\nalso performing:\n- Digital Mar
 tyrs, a great group from Sacramento, for fans of Brother Ali, etc...ve
 ry lyrical, boom bap style beats, great content. Impressive live show.
  www.myspace.com/digitalmartyrs\n\n- Elijah The Poet & 21 Stylez, you 
 might know 'em from Beats & Flows and Kurse Krew, from their collabora
 tions with Bicasso & DJ FRESH or from performing alongside Living Lege
 nds. www.myspace.com/elijahthepoet\n\n- DJ MRC. ...who is DJ MRC?\n\n-
  DRINK SPECIALS: $3 Jose Cuervo Shots & $3 Corona's\n\nFor more inform
 ation visit https://trueskool.com/events/18-aesop-of-living-legends-1
DTSTART;TZID=America/Los_Angeles:20100326T210000
DTEND;TZID=America/Los_Angeles:20100327T013000
CATEGORIES:hip, hop, live, band, dj, rap, "18+"
LOCATION:Blakes on Telegraph, Berkeley, CA
WEBSITE:http://www.blakesontelegraph.com
URL:http://www.blakesontelegraph.com
CONTACT:
ORGANIZER:Study Music
ATTACH;FMTTYPE="image/jpeg":http://storage.ning.com/topology/rest/1.0/
 file/get/2247876177?profile=original
ATTENDEE;ROLE=REQ-PARTICIPANT;PARTSTAT=ACCEPTED;RSVP=TRUE;CN=CitizenOf
 TheUnderstudies:https://trueskool.com/profile/CitizenOfTheUnderstudies
END:VEVENT
END:VCALENDAR
