BEGIN:VCALENDAR
PRODID:NingEventWidget-v1
VERSION:2.0
METHOD:PUBLISH
BEGIN:VTIMEZONE
TZID:America/Los_Angeles
X-LIC-LOCATION:America/Los_Angeles
BEGIN:DAYLIGHT
TZOFFSETFROM:-0800
TZOFFSETTO:-0700
TZNAME:PDT
DTSTART:19700308T020000
RRULE:FREQ=YEARLY;BYMONTH=3;BYDAY=2SU
END:DAYLIGHT
BEGIN:STANDARD
TZOFFSETFROM:-0700
TZOFFSETTO:-0800
TZNAME:PST
DTSTART:19701101T020000
RRULE:FREQ=YEARLY;BYMONTH=11;BYDAY=1SU
END:STANDARD
END:VTIMEZONE
BEGIN:VEVENT
UID:1464587:Event:53185
DTSTAMP:20260420T230205Z
SUMMARY:Murs
DESCRIPTION:Thursday April 29th\nMurs\n\nShattuck Downlow, 2484 Shattu
 ck Ave., Berkeley\ndoors at 8pm\ntickets $20\nBuy Tickets:\n\n\n\n\nFo
 r more information visit https://trueskool.com/events/1464587:Event:53
 185
DTSTART;TZID=America/Los_Angeles:20100429T200000
DTEND;TZID=America/Los_Angeles:20100430T000000
CATEGORIES:hip, hop
LOCATION:The Fillmore, San Francisco, CA
WEBSITE:http://www.ticketmaster.com/event/1C004472860F317A
URL:http://www.ticketmaster.com/event/1C004472860F317A
CONTACT:
ORGANIZER;CN="Editor's Pick":https://trueskool.com/profile/RentheVinyl
 Archaeologist
ATTACH;FMTTYPE="image/jpeg":http://storage.ning.com/topology/rest/1.0/
 file/get/2247879350?profile=original
ATTENDEE;ROLE=REQ-PARTICIPANT;PARTSTAT=ACCEPTED;RSVP=TRUE;CN="caramel 
 queen":https://trueskool.com/profile/caramelqueen
ATTENDEE;ROLE=REQ-PARTICIPANT;PARTSTAT=ACCEPTED;RSVP=TRUE;CN="Editor's
  Pick":https://trueskool.com/profile/RentheVinylArchaeologist
END:VEVENT
END:VCALENDAR
