BEGIN:VCALENDAR
PRODID:NingEventWidget-v1
VERSION:2.0
METHOD:PUBLISH
BEGIN:VTIMEZONE
TZID:America/Los_Angeles
X-LIC-LOCATION:America/Los_Angeles
BEGIN:DAYLIGHT
TZOFFSETFROM:-0800
TZOFFSETTO:-0700
TZNAME:PDT
DTSTART:19700308T020000
RRULE:FREQ=YEARLY;BYMONTH=3;BYDAY=2SU
END:DAYLIGHT
BEGIN:STANDARD
TZOFFSETFROM:-0700
TZOFFSETTO:-0800
TZNAME:PST
DTSTART:19701101T020000
RRULE:FREQ=YEARLY;BYMONTH=11;BYDAY=1SU
END:STANDARD
END:VTIMEZONE
BEGIN:VEVENT
UID:1464587:Event:60246
DTSTAMP:20260420T095730Z
SUMMARY:12th Annual Power to the Peaceful Music and Arts Festival 9/10
  - 9/12
DESCRIPTION:Michael Franti & Guerrilla Management Host 12th Annual POW
 ER TO THE PEACEFUL FESTIVAL;\nOne of the Nation’s Largest Free Music
  and Arts Festival\n\n\nSaturday September 11, 2010\nSpeedway Meadow, 
 Golden Gate Park\nSan Francisco, CA\n9am: 1,000 Yogis for Peace\n11a-5
 pm: Festival\nMichael Franti and Spearhead\nRebelution\nCrystal Bowers
 ox\nRupa and the April Fishes\nLoco Bloco\nSellassie\nDJ Tent with For
 t Knox Five, DJ Adnan, DJ Heyman, Adam Strauss\nMore artists TBA\nKids
  Stage\nEco Village\nVendors, Food and more.\nFREE, $5 Donation sugges
 ted\nwww.powertothepeaceful.org\n\n\nOn Saturday, September 11, 2010 v
 isionary musician and human rights worker, Michael Franti, along with 
 Guerrilla Management present the 12th Annual Power to the Peaceful Fes
 tival (PTTP) at Speedway Meadow in San Francisco’s Golden Gate Park.
  Beginning in 1998, this diverse music, arts, action and yoga festival
  has become a premiere San Francisco tradition dedicated to educating 
 attendees on issues of social justice, non- violence, cultural co-exis
 tence and environmental sustainability. With over 70,000 attendees, PT
 TP has grown from a local community based event to one of the nation
 s largest free annual music festivals in the U.S. PTTP features a var
 iety of international musicians, visual artists, renowned keynote spea
 kers and over 200 exhibitors and green vendors.\n\nThe Power of the Pe
 aceful movement has reached a new level by gaining international recog
 nition. PTTP is committed to sustainability via innovative recycling p
 rograms, initiating partnerships with other sustainable organizations 
 and encouraging the use of “green” yoga products. Past artists and
  speakers of the event include: Ziggy Marley, Alanis Morissette, Indig
 o Girls, The String Cheese Incident, John Butler Trio, KRS-1, Digital 
 Underground, Woody Harrelson, Angela Davis, Saul Williams, Dennis Kuci
 nich, Blackalicious, Alice Walker, Talib Kweli, The Coup, Keller Willi
 ams, DJ Spooky, King Britt, Lyrics Born, and many more.\n\n12th Annual
  Power to the Peaceful Music and Arts Festival Schedule:\n\n\nFriday S
 eptember 10TH\nPOWER TO THE PEACEFUL FESTIVAL OFFICIAL PRE-PARTY AND C
 ARE GLOBAL ACTION FILM PRESENTATION\n4:30pm – 9:30pm\nThe Fillmore, 
 1805 Geary Blvd, San Francisco, CA 94115\n\nSaturday, September 11th\n
 POWER TO THE PEACEFUL FESTIVAL\nSpeedway Meadow, Golden Gate Park, San
  Francisco\n9am: Call for 1000 Yogis w/Seane Corn\n11am - 5pm: Festiva
 l\nAdmission is FREE ($5/donation requested-no one turned away)\n\nSat
 urday September 11th\nPOWER TO THE PEACEFUL FESTIVAL AFTERPARTY\nThe R
 ockin’ Heads\nMichael Franti and Spearhead\nThe Fillmore, 1805 Geary
  Blvd, San Francisco, CA 94115\n\nSunday September 12th\nOFFICIAL POST
  POWER TO THE PEACEFUL FESTIVAL YOGA/BRAZILIAN ARTS & MICHAEL FRANTI
 S FAMILY MATINEE\n9:30am – 5:30pm\nThe Fillmore, 1805 Geary Blvd, S
 an Francisco, CA 94115\n\nComplete information for the festival and al
 l related events can be found at: www.powertothepeaceful.org\n\nFor mo
 re information visit https://trueskool.com/events/12th-annual-power-to
 -the
DTSTART;TZID=America/Los_Angeles:20100910T163000
DTEND;TZID=America/Los_Angeles:20100912T170000
CATEGORIES:music, festival
LOCATION:Speedway Meadow Golden Gate Park, San Francisco, Ca
WEBSITE:http://www.powertothepeaceful.org
URL:http://www.powertothepeaceful.org
CONTACT:
ORGANIZER:Guerrilla Management
ATTACH;FMTTYPE="image/jpeg":http://storage.ning.com/topology/rest/1.0/
 file/get/2247883063?profile=original
ATTENDEE;ROLE=REQ-PARTICIPANT;PARTSTAT=ACCEPTED;RSVP=TRUE;CN="caramel 
 queen":https://trueskool.com/profile/caramelqueen
ATTENDEE;ROLE=REQ-PARTICIPANT;PARTSTAT=ACCEPTED;RSVP=TRUE;CN="Blythe N
 elson":https://trueskool.com/profile/BlytheNelson
END:VEVENT
END:VCALENDAR
