BEGIN:VCALENDAR
PRODID:NingEventWidget-v1
VERSION:2.0
METHOD:PUBLISH
BEGIN:VTIMEZONE
TZID:America/Los_Angeles
X-LIC-LOCATION:America/Los_Angeles
BEGIN:DAYLIGHT
TZOFFSETFROM:-0800
TZOFFSETTO:-0700
TZNAME:PDT
DTSTART:19700308T020000
RRULE:FREQ=YEARLY;BYMONTH=3;BYDAY=2SU
END:DAYLIGHT
BEGIN:STANDARD
TZOFFSETFROM:-0700
TZOFFSETTO:-0800
TZNAME:PST
DTSTART:19701101T020000
RRULE:FREQ=YEARLY;BYMONTH=11;BYDAY=1SU
END:STANDARD
END:VTIMEZONE
BEGIN:VEVENT
UID:1464587:Event:285159
DTSTAMP:20260421T102031Z
SUMMARY:12/19 (Redwood City) RonDavoux Holiday Party ft. Rahman Jamaal
 ,James tha Spitta,Bennett Roth-Newell(Soulful Obsession),DLabire,YDMC,
 Skrilla Sam,Scribe Sayar & Hip Hop/Jazz Band \"Grooveyard Shif & more
DESCRIPTION:THURS 12/19 in Redwood City-RDV Holiday Party ft Rahman Ja
 maal,YDMC,DLabrie,James tha Spitta,Bennett Roth-Newell,Madman,Skrilla 
 Sam,Wasaname An Em,Maq Steez, Scribe Sayar w/ Grooveyard shift (HIP HO
 P & JAZZ BAND) Rock da Mic: Every 3rd Thursday!!\n\nFor more informati
 on visit https://trueskool.com/events/12-19-redwood-city-rondavoux-hol
 iday-party-ft-rahman-jamaal-jam-1
DTSTART;TZID=America/Los_Angeles:20131219T210000
DTEND;TZID=America/Los_Angeles:20131220T020000
CATEGORIES:redwoodcity, christmas, party, hiphop
LOCATION:Bobby D's
WEBSITE:http://www.pinterest.com/pin/510032726521662943/
URL:http://www.pinterest.com/pin/510032726521662943/
CONTACT:
ORGANIZER:RonDavoux Records/RDV promo
ATTACH;FMTTYPE="image/jpeg":http://storage.ning.com/topology/rest/1.0/
 file/get/2247954605?profile=original
ATTENDEE;ROLE=REQ-PARTICIPANT;PARTSTAT=ACCEPTED;RSVP=TRUE;CN=DLabrie:h
 ttps://trueskool.com/profile/DLabrie
END:VEVENT
END:VCALENDAR
