BEGIN:VCALENDAR
PRODID:NingEventWidget-v1
VERSION:2.0
METHOD:PUBLISH
BEGIN:VTIMEZONE
TZID:America/Los_Angeles
X-LIC-LOCATION:America/Los_Angeles
BEGIN:DAYLIGHT
TZOFFSETFROM:-0800
TZOFFSETTO:-0700
TZNAME:PDT
DTSTART:19700308T020000
RRULE:FREQ=YEARLY;BYMONTH=3;BYDAY=2SU
END:DAYLIGHT
BEGIN:STANDARD
TZOFFSETFROM:-0700
TZOFFSETTO:-0800
TZNAME:PST
DTSTART:19701101T020000
RRULE:FREQ=YEARLY;BYMONTH=11;BYDAY=1SU
END:STANDARD
END:VTIMEZONE
BEGIN:VEVENT
UID:1464587:Event:285076
DTSTAMP:20260421T183125Z
SUMMARY:12/17 in San Leandro – DLabrie live at IROC Tuesdays Holiday
  Party at Sweet Fingers
DESCRIPTION:12/17 in San Leandro – DLabrie live at IROC Tuesdays Hol
 iday Party at Sweet Fingers also Diamong the Solid One, Darling Bonnie
 , Dom Jones, Raphelle Andrews and more!!\n\nFor more information visit
  https://trueskool.com/events/12-17-in-san-leandro-dlabrie-live-at-iro
 c-tuesdays-holiday-part-1
DTSTART;TZID=America/Los_Angeles:20131217T210000
DTEND;TZID=America/Los_Angeles:20131218T020000
CATEGORIES:sanleandro, califirnia, oakland
LOCATION:Sweet Fingers
WEBSITE:http://www.twitter.com/RDVpromo
URL:http://www.twitter.com/RDVpromo
CONTACT:
ORGANIZER:IROC Radio
ATTACH;FMTTYPE="image/jpeg":http://storage.ning.com/topology/rest/1.0/
 file/get/2247955352?profile=original
ATTENDEE;ROLE=REQ-PARTICIPANT;PARTSTAT=ACCEPTED;RSVP=TRUE;CN=DLabrie:h
 ttps://trueskool.com/profile/DLabrie
END:VEVENT
END:VCALENDAR
